BEGIN:VCALENDAR
VERSION:2.0
PRODID:-//River Arts Alliance - ECPv6.15.20//NONSGML v1.0//EN
CALSCALE:GREGORIAN
METHOD:PUBLISH
X-ORIGINAL-URL:https://riverartsalliance.org
X-WR-CALDESC:Events for River Arts Alliance
REFRESH-INTERVAL;VALUE=DURATION:PT1H
X-Robots-Tag:noindex
X-PUBLISHED-TTL:PT1H
BEGIN:VTIMEZONE
TZID:America/Chicago
BEGIN:DAYLIGHT
TZOFFSETFROM:-0600
TZOFFSETTO:-0500
TZNAME:CDT
DTSTART:20210314T080000
END:DAYLIGHT
BEGIN:STANDARD
TZOFFSETFROM:-0500
TZOFFSETTO:-0600
TZNAME:CST
DTSTART:20211107T070000
END:STANDARD
BEGIN:DAYLIGHT
TZOFFSETFROM:-0600
TZOFFSETTO:-0500
TZNAME:CDT
DTSTART:20220313T080000
END:DAYLIGHT
BEGIN:STANDARD
TZOFFSETFROM:-0500
TZOFFSETTO:-0600
TZNAME:CST
DTSTART:20221106T070000
END:STANDARD
BEGIN:DAYLIGHT
TZOFFSETFROM:-0600
TZOFFSETTO:-0500
TZNAME:CDT
DTSTART:20230312T080000
END:DAYLIGHT
BEGIN:STANDARD
TZOFFSETFROM:-0500
TZOFFSETTO:-0600
TZNAME:CST
DTSTART:20231105T070000
END:STANDARD
END:VTIMEZONE
BEGIN:VEVENT
DTSTART;TZID=America/Chicago:20220730T110000
DTEND;TZID=America/Chicago:20220730T120000
DTSTAMP:20260425T083823
CREATED:20220720T233010Z
LAST-MODIFIED:20220720T233010Z
UID:10000085-1659178800-1659182400@riverartsalliance.org
SUMMARY:Maria W. Faust Sonnet Contest’s Celebrate the Sonnet Event
DESCRIPTION:Winona Arts Center | 228 E 5th St. | and online via Zoom\nsonnetcontest.org/events \nWe want to say Thank You again to everyone who submitted sonnets to our contest this year. Each of the winners has been notified and many will read their sonnets at the Celebrate the Sonnet Event. This event will also celebrate the 10th anniversary of the Sonnet Contest being named in memory of Maria W. Faust. It will be a hybrid event\, held both in person and on Zoom. People who would like to attend in person are invited to join us at the Winona Arts Center in Winona\, Minnesota. Instructions for logging in will be provided closer to time for those who will join us remotely. Email entries@sonnetcontest.org if you have any questions or if you want to make sure you get the Zoom link. Learn more.
URL:https://riverartsalliance.org/event/maria-w-faust-sonnet-contests-celebrate-the-sonnet-event/
LOCATION:Winona Arts Center\, 228 E 5th St.\, Winona\, MN\, 55987\, United States
END:VEVENT
BEGIN:VEVENT
DTSTART;TZID=America/Chicago:20220730T120000
DTEND;TZID=America/Chicago:20220730T170000
DTSTAMP:20260425T083823
CREATED:20220725T170801Z
LAST-MODIFIED:20220725T170801Z
UID:10000037-1659182400-1659200400@riverartsalliance.org
SUMMARY:35th Annual Winona Jazz Festival at LaCanne Park
DESCRIPTION:LaCanne Park Pavilion | 6280 Old Hwy 61 | Goodview \nFor your calendar please add and attend at least some of the 35th Annual Winona Jazz Festival\, Saturday\, July 30\, 2022 from 12 to 5 pm.  It will be rain or shine at the LaCanne Park Pavilion in Goodview\, MN\, rain or shine because it’s under cover. Featured will be Les Fields and the Turkey River All Stars from Rochester\, a perennial favorite\, from 12-1:30; the Midwest Banjo Band\, featuring 4 Banjo Hall of Fame starts from 1:45-3:15; and Winona’s own Gate City Jazz Band from 3:30-5:00. Tables are limited\, so bring your own chair\, and get ready for a fun\, toe-tapping good time.
URL:https://riverartsalliance.org/event/35th-annual-winona-jazz-festival-at-lacanne-park/
LOCATION:Michael LaCanne Memorial Park\, 6280 Highway 61\, Goodview\, MN\, 55987\, United States
END:VEVENT
BEGIN:VEVENT
DTSTART;TZID=America/Chicago:20220730T180000
DTEND;TZID=America/Chicago:20220730T184500
DTSTAMP:20260425T083823
CREATED:20220720T221052Z
LAST-MODIFIED:20220720T221052Z
UID:10000082-1659204000-1659206700@riverartsalliance.org
SUMMARY:MCA’s Summer Dance Intensive Showcase @ Page Theatre
DESCRIPTION:Page Theatre | Saint Mary’s University | 700 Terrace Heights\nwww.smumn.edu/calendars \nJoin us for Minnesota Conservatory for the Arts’ (MCA) 19th Annual Summer Dance Intensive Showcase at the beautiful Page Theatre on the Saint Mary’s University campus. This showcase is FREE and open to the public. Enjoy performance demonstrations in ballet\, pointe variations\, jazz\, modern and musical theatre dance\, among others.
URL:https://riverartsalliance.org/event/mcas-summer-dance-intensive-showcase-page-theatre/
LOCATION:Page Theatre\, 700 Terrace Heights\, Winona\, MN\, 55987\, United States
END:VEVENT
BEGIN:VEVENT
DTSTART;TZID=America/Chicago:20220730T180000
DTEND;TZID=America/Chicago:20220730T200000
DTSTAMP:20260425T083823
CREATED:20220725T165112Z
LAST-MODIFIED:20220725T165112Z
UID:10000087-1659204000-1659211200@riverartsalliance.org
SUMMARY:Patina the Band at Peter’s Biergarten
DESCRIPTION:Peter’s Biergarten | 54 E 3rd St.\npatinatheband.com \nCome out to Peter’s Biergarten\, next to Blooming Grounds on East 3rd Street in Winona\, on Saturday\, July 30 at 6:00pm to hear Patina. We play a mix of traditional and contemporary Celtic\, folk\, and original instrumentals and vocals. Patina is a four member Celtic band\, featuring Kara Mae Prosen\, Connie Dretske\, Sue Lee Ringwelski\, and Greg Peterson. Learn more.
URL:https://riverartsalliance.org/event/patina-the-band-at-peters-biergarten/
LOCATION:Peter’s Biergarten\, 54 E 3rd St.\, Winona\, MN\, 55987\, United States
END:VEVENT
BEGIN:VEVENT
DTSTART;TZID=America/Chicago:20220730T180000
DTEND;TZID=America/Chicago:20220730T210000
DTSTAMP:20260425T083823
CREATED:20220710T232511Z
LAST-MODIFIED:20220714T193812Z
UID:10000068-1659204000-1659214800@riverartsalliance.org
SUMMARY:Amanda Grace Trio at Prairie Island Campground
DESCRIPTION:Prairie Island Campground Community Garden Patio | 1120 Prairie Island Rd. N | Winonawww.prairieislandcampground.com/calendar-2Join us for a free evening of dynamic music with Amanda Grace and her band. Rock\, Soul\, Blues\, Pop\, Gospel\, Folk\, take your pick!Amanda Grace Trio will be performing at Prairie Island Campground Saturday\, July 30th\, from 6:00-9:00 pm\, free admission to all!Learn more.
URL:https://riverartsalliance.org/event/amanda-grace-trio-at-prairie-island-campground/
LOCATION:Prairie Island Campground\, 1120 Prairie Island Rd. N\, Winona\, MN\, United States
END:VEVENT
BEGIN:VEVENT
DTSTART;TZID=America/Chicago:20220730T190000
DTEND;TZID=America/Chicago:20220730T190000
DTSTAMP:20260425T083823
CREATED:20220710T232511Z
LAST-MODIFIED:20220714T193953Z
UID:10000069-1659207600-1659207600@riverartsalliance.org
SUMMARY:Deep in the City – Performance
DESCRIPTION:SugarLoaf Theater summer musical at Winona County History Center – learn more.
URL:https://riverartsalliance.org/event/deep-in-the-city-performance-2/
LOCATION:Winona County History Center\, 160 Johnson St\, Winona\, MN\, 55987\, United States
END:VEVENT
END:VCALENDAR