BEGIN:VCALENDAR
VERSION:2.0
PRODID:-//River Arts Alliance - ECPv6.15.20//NONSGML v1.0//EN
CALSCALE:GREGORIAN
METHOD:PUBLISH
X-ORIGINAL-URL:https://riverartsalliance.org
X-WR-CALDESC:Events for River Arts Alliance
REFRESH-INTERVAL;VALUE=DURATION:PT1H
X-Robots-Tag:noindex
X-PUBLISHED-TTL:PT1H
BEGIN:VTIMEZONE
TZID:America/Chicago
BEGIN:DAYLIGHT
TZOFFSETFROM:-0600
TZOFFSETTO:-0500
TZNAME:CDT
DTSTART:20210314T080000
END:DAYLIGHT
BEGIN:STANDARD
TZOFFSETFROM:-0500
TZOFFSETTO:-0600
TZNAME:CST
DTSTART:20211107T070000
END:STANDARD
BEGIN:DAYLIGHT
TZOFFSETFROM:-0600
TZOFFSETTO:-0500
TZNAME:CDT
DTSTART:20220313T080000
END:DAYLIGHT
BEGIN:STANDARD
TZOFFSETFROM:-0500
TZOFFSETTO:-0600
TZNAME:CST
DTSTART:20221106T070000
END:STANDARD
BEGIN:DAYLIGHT
TZOFFSETFROM:-0600
TZOFFSETTO:-0500
TZNAME:CDT
DTSTART:20230312T080000
END:DAYLIGHT
BEGIN:STANDARD
TZOFFSETFROM:-0500
TZOFFSETTO:-0600
TZNAME:CST
DTSTART:20231105T070000
END:STANDARD
END:VTIMEZONE
BEGIN:VEVENT
DTSTART;TZID=America/Chicago:20220805T180000
DTEND;TZID=America/Chicago:20220805T184500
DTSTAMP:20260425T070953
CREATED:20220801T190921Z
LAST-MODIFIED:20220801T190921Z
UID:10000039-1659722400-1659725100@riverartsalliance.org
SUMMARY:MCA Summer Music Division Concert
DESCRIPTION:Minnesota Conservatory for the Arts | 1164 W Howard (10th) St.\nmca.smumn.edu \nThe Minnesota Conservatory for the Arts (MCA) music division invites the community to our summer concert held inside MCA’s home\, the Valencia Arts Center\, on Friday\, August 5th\, 2022 at 6:00pm. \nThis concert will feature music students of all ages and experience levels playing a variety of music and instruments. Admission is free-will donation. All donations will support future programming and the MCA scholarship fund. MCA is committed to making the arts accessible to all community members. Learn more.
URL:https://riverartsalliance.org/event/mca-summer-music-division-concert/
LOCATION:Minnesota Conservatory for the Arts\, 1164 W 10th St.\, Winona\, MN\, United States
END:VEVENT
END:VCALENDAR