BEGIN:VCALENDAR
VERSION:2.0
PRODID:-//River Arts Alliance - ECPv6.15.20//NONSGML v1.0//EN
CALSCALE:GREGORIAN
METHOD:PUBLISH
X-ORIGINAL-URL:https://riverartsalliance.org
X-WR-CALDESC:Events for River Arts Alliance
REFRESH-INTERVAL;VALUE=DURATION:PT1H
X-Robots-Tag:noindex
X-PUBLISHED-TTL:PT1H
BEGIN:VTIMEZONE
TZID:America/Chicago
BEGIN:DAYLIGHT
TZOFFSETFROM:-0600
TZOFFSETTO:-0500
TZNAME:CDT
DTSTART:20210314T080000
END:DAYLIGHT
BEGIN:STANDARD
TZOFFSETFROM:-0500
TZOFFSETTO:-0600
TZNAME:CST
DTSTART:20211107T070000
END:STANDARD
BEGIN:DAYLIGHT
TZOFFSETFROM:-0600
TZOFFSETTO:-0500
TZNAME:CDT
DTSTART:20220313T080000
END:DAYLIGHT
BEGIN:STANDARD
TZOFFSETFROM:-0500
TZOFFSETTO:-0600
TZNAME:CST
DTSTART:20221106T070000
END:STANDARD
BEGIN:DAYLIGHT
TZOFFSETFROM:-0600
TZOFFSETTO:-0500
TZNAME:CDT
DTSTART:20230312T080000
END:DAYLIGHT
BEGIN:STANDARD
TZOFFSETFROM:-0500
TZOFFSETTO:-0600
TZNAME:CST
DTSTART:20231105T070000
END:STANDARD
END:VTIMEZONE
BEGIN:VEVENT
DTSTART;TZID=America/Chicago:20220812T190000
DTEND;TZID=America/Chicago:20220812T200000
DTSTAMP:20260425T070953
CREATED:20220710T232511Z
LAST-MODIFIED:20220725T173555Z
UID:10000071-1660330800-1660334400@riverartsalliance.org
SUMMARY:MCA Presents: Junie B. Jones The Musical JR.
DESCRIPTION:Minnesota Conservatory for the Arts | 1164 W 10th St.\nmca.smumn.edu \nLaugh yourself silly with Junie B. Jones in this hilarious musical. The Minnesota Conservatory for the Arts (MCA) students will present Junie B Jones The Musical JR.\, a 60-minute student version of the witty and charming show featuring a book and lyrics by Marcy Heisler and music by Zina Goldrich. Performances are on Friday\, August 12th at 7pm and Saturday\, August 13th at 2pm and 7pm. Ticket sales begin August 2nd and are available for purchase in-person at MCA by cash or check only. $8/Adults\, $5/Kids & Seniors. Learn more.
URL:https://riverartsalliance.org/event/junie-b-jones-the-musical-jr-performance/
LOCATION:Minnesota Conservatory for the Arts\, 1164 W 10th St.\, Winona\, MN\, United States
END:VEVENT
END:VCALENDAR