BEGIN:VCALENDAR
VERSION:2.0
PRODID:-//River Arts Alliance - ECPv6.15.20//NONSGML v1.0//EN
CALSCALE:GREGORIAN
METHOD:PUBLISH
X-ORIGINAL-URL:https://riverartsalliance.org
X-WR-CALDESC:Events for River Arts Alliance
REFRESH-INTERVAL;VALUE=DURATION:PT1H
X-Robots-Tag:noindex
X-PUBLISHED-TTL:PT1H
BEGIN:VTIMEZONE
TZID:America/Chicago
BEGIN:DAYLIGHT
TZOFFSETFROM:-0600
TZOFFSETTO:-0500
TZNAME:CDT
DTSTART:20210314T080000
END:DAYLIGHT
BEGIN:STANDARD
TZOFFSETFROM:-0500
TZOFFSETTO:-0600
TZNAME:CST
DTSTART:20211107T070000
END:STANDARD
BEGIN:DAYLIGHT
TZOFFSETFROM:-0600
TZOFFSETTO:-0500
TZNAME:CDT
DTSTART:20220313T080000
END:DAYLIGHT
BEGIN:STANDARD
TZOFFSETFROM:-0500
TZOFFSETTO:-0600
TZNAME:CST
DTSTART:20221106T070000
END:STANDARD
BEGIN:DAYLIGHT
TZOFFSETFROM:-0600
TZOFFSETTO:-0500
TZNAME:CDT
DTSTART:20230312T080000
END:DAYLIGHT
BEGIN:STANDARD
TZOFFSETFROM:-0500
TZOFFSETTO:-0600
TZNAME:CST
DTSTART:20231105T070000
END:STANDARD
END:VTIMEZONE
BEGIN:VEVENT
DTSTART;TZID=America/Chicago:20220813T100000
DTEND;TZID=America/Chicago:20220813T170000
DTSTAMP:20260425T070953
CREATED:20220808T232140Z
LAST-MODIFIED:20220808T232140Z
UID:10000047-1660384800-1660410000@riverartsalliance.org
SUMMARY:Waterscapes: Summer Seasonal Saturday Event at MMAM
DESCRIPTION:Minnesota Marine Art Museum | 800 Riverview Dr.\nwww.MMAM.org \nOn August 13\, the Minnesota Marine Art Museum will offer its popular quarterly arts access program\, Seasonal Saturday. These are fun-filled\, inviting days that offer $1 admission\, free transportation\, a themed art activity\, artist-led programming\, live music in the galleries\, and 30-minute tours. Learn more.
URL:https://riverartsalliance.org/event/waterscapes-summer-seasonal-saturday-event-at-mmam/
LOCATION:Minnesota Marine Art Museum\, 800 Riverview Dr.\, Winona\, MN\, 55987\, United States
END:VEVENT
BEGIN:VEVENT
DTSTART;TZID=America/Chicago:20220813T140000
DTEND;TZID=America/Chicago:20220813T150000
DTSTAMP:20260425T070953
CREATED:20220710T232511Z
LAST-MODIFIED:20220725T173928Z
UID:10000072-1660399200-1660402800@riverartsalliance.org
SUMMARY:MCA Presents: Junie B. Jones The Musical JR.
DESCRIPTION:Minnesota Conservatory for the Arts | 1164 W 10th St.\nmca.smumn.edu \nLaugh yourself silly with Junie B. Jones in this hilarious musical. The Minnesota Conservatory for the Arts (MCA) students will present Junie B Jones The Musical JR.\, a 60-minute student version of the witty and charming show featuring a book and lyrics by Marcy Heisler and music by Zina Goldrich. Performances are on Friday\, August 12th at 7pm and Saturday\, August 13th at 2pm and 7pm. Ticket sales begin August 2nd and are available for purchase in-person at MCA by cash or check only. $8/Adults\, $5/Kids & Seniors. Learn more.
URL:https://riverartsalliance.org/event/junie-b-jones-the-musical-jr-performance-2/
LOCATION:Minnesota Conservatory for the Arts\, 1164 W 10th St.\, Winona\, MN\, United States
END:VEVENT
BEGIN:VEVENT
DTSTART;TZID=America/Chicago:20220813T190000
DTEND;TZID=America/Chicago:20220813T200000
DTSTAMP:20260425T070953
CREATED:20220710T232511Z
LAST-MODIFIED:20220725T174202Z
UID:10000073-1660417200-1660420800@riverartsalliance.org
SUMMARY:MCA Presents: Junie B. Jones The Musical JR.
DESCRIPTION:Minnesota Conservatory for the Arts | 1164 W 10th St.\nmca.smumn.edu \nLaugh yourself silly with Junie B. Jones in this hilarious musical. The Minnesota Conservatory for the Arts (MCA) students will present Junie B Jones The Musical JR.\, a 60-minute student version of the witty and charming show featuring a book and lyrics by Marcy Heisler and music by Zina Goldrich. Performances are on Friday\, August 12th at 7pm and Saturday\, August 13th at 2pm and 7pm. Ticket sales begin August 2nd and are available for purchase in-person at MCA by cash or check only. $8/Adults\, $5/Kids & Seniors. Learn more.
URL:https://riverartsalliance.org/event/junie-b-jones-the-musical-jr-performance-3/
LOCATION:Minnesota Conservatory for the Arts\, 1164 W 10th St.\, Winona\, MN\, United States
END:VEVENT
BEGIN:VEVENT
DTSTART;TZID=America/Chicago:20220813T190000
DTEND;TZID=America/Chicago:20220813T200000
DTSTAMP:20260425T070953
CREATED:20220809T230523Z
LAST-MODIFIED:20220809T230523Z
UID:10000050-1660417200-1660420800@riverartsalliance.org
SUMMARY:SHIFT~ a performance salon Presents LAND/ings: Katwa Ngoma & Sharon Mansur
DESCRIPTION:East End Recreation Center | 210 Zumbro St.\nmansurdance.com/shift.html \nJoin Winona based percussionist Katwa Ngoma & dance/interdisciplinary artist Sharon Mansur for LAND/ings\, a music and dance performance that reflects the imperfectly perfect everyday spaces we inhabit. \nIN PERSON EVENT GUIDELINES:\nWear comfortable walking shoes and bring a folding chair for your seating comfort! You are also welcome to stand and wander during the event. Total performance will be 45 minutes followed by a brief 15 minute audience discussion. \nFor audience accommodation requests: sharonmansur@gmail.com. \nLearn more.
URL:https://riverartsalliance.org/event/shift-a-performance-salon-presents-land-ings-katwa-ngoma-sharon-mansur/
LOCATION:East Recreation Center\, 210 Zumbro St.\, Winona\, MN\, 55987\, United States
END:VEVENT
END:VCALENDAR