BEGIN:VCALENDAR
VERSION:2.0
PRODID:-//River Arts Alliance - ECPv6.15.20//NONSGML v1.0//EN
CALSCALE:GREGORIAN
METHOD:PUBLISH
X-WR-CALNAME:River Arts Alliance
X-ORIGINAL-URL:https://riverartsalliance.org
X-WR-CALDESC:Events for River Arts Alliance
REFRESH-INTERVAL;VALUE=DURATION:PT1H
X-Robots-Tag:noindex
X-PUBLISHED-TTL:PT1H
BEGIN:VTIMEZONE
TZID:America/Chicago
BEGIN:DAYLIGHT
TZOFFSETFROM:-0600
TZOFFSETTO:-0500
TZNAME:CDT
DTSTART:20210314T080000
END:DAYLIGHT
BEGIN:STANDARD
TZOFFSETFROM:-0500
TZOFFSETTO:-0600
TZNAME:CST
DTSTART:20211107T070000
END:STANDARD
BEGIN:DAYLIGHT
TZOFFSETFROM:-0600
TZOFFSETTO:-0500
TZNAME:CDT
DTSTART:20220313T080000
END:DAYLIGHT
BEGIN:STANDARD
TZOFFSETFROM:-0500
TZOFFSETTO:-0600
TZNAME:CST
DTSTART:20221106T070000
END:STANDARD
BEGIN:DAYLIGHT
TZOFFSETFROM:-0600
TZOFFSETTO:-0500
TZNAME:CDT
DTSTART:20230312T080000
END:DAYLIGHT
BEGIN:STANDARD
TZOFFSETFROM:-0500
TZOFFSETTO:-0600
TZNAME:CST
DTSTART:20231105T070000
END:STANDARD
END:VTIMEZONE
BEGIN:VEVENT
DTSTART;TZID=America/Chicago:20220909T190000
DTEND;TZID=America/Chicago:20220909T190000
DTSTAMP:20260425T052217
CREATED:20220831T230150Z
LAST-MODIFIED:20220905T133028Z
UID:10000021-1662750000-1662750000@riverartsalliance.org
SUMMARY:SHIFT~ a performance salon presents BLUE AWAKEN/ings: Mary Jo Klinker & Sharon Mansur
DESCRIPTION:Friday | September 9 | 7 pm\nLevee Park\nmansurdance.com/shift \nJoin Winona based activist/scholar Mary Jo Klinker & dance/interdisciplinary artist Sharon Mansur for Blue Awaken/ings: a dance performance and feminist exploration of Maggie Nelson’s book Bluets. Experience a wandering performance through Levee Park. The event will start at the climbing boulders by Walnut Street\, move to the circle stage\, and end down by the river. Audience members are invited to wear blue and/or bring a blue object! Note: Contains mature themes. ADMISSION: FREE\, no reservations needed. Learn more.
URL:https://riverartsalliance.org/event/shift-a-performance-salon-presents-blue-awaken-ings-mary-jo-klinker-sharon-mansur/
LOCATION:Levee Park\, 58 Center St.\, Winona\, MN\, 55987\, United States
END:VEVENT
END:VCALENDAR