BEGIN:VCALENDAR
VERSION:2.0
PRODID:-//River Arts Alliance - ECPv6.15.20//NONSGML v1.0//EN
CALSCALE:GREGORIAN
METHOD:PUBLISH
X-WR-CALNAME:River Arts Alliance
X-ORIGINAL-URL:https://riverartsalliance.org
X-WR-CALDESC:Events for River Arts Alliance
REFRESH-INTERVAL;VALUE=DURATION:PT1H
X-Robots-Tag:noindex
X-PUBLISHED-TTL:PT1H
BEGIN:VTIMEZONE
TZID:America/Chicago
BEGIN:DAYLIGHT
TZOFFSETFROM:-0600
TZOFFSETTO:-0500
TZNAME:CDT
DTSTART:20210314T080000
END:DAYLIGHT
BEGIN:STANDARD
TZOFFSETFROM:-0500
TZOFFSETTO:-0600
TZNAME:CST
DTSTART:20211107T070000
END:STANDARD
BEGIN:DAYLIGHT
TZOFFSETFROM:-0600
TZOFFSETTO:-0500
TZNAME:CDT
DTSTART:20220313T080000
END:DAYLIGHT
BEGIN:STANDARD
TZOFFSETFROM:-0500
TZOFFSETTO:-0600
TZNAME:CST
DTSTART:20221106T070000
END:STANDARD
BEGIN:DAYLIGHT
TZOFFSETFROM:-0600
TZOFFSETTO:-0500
TZNAME:CDT
DTSTART:20230312T080000
END:DAYLIGHT
BEGIN:STANDARD
TZOFFSETFROM:-0500
TZOFFSETTO:-0600
TZNAME:CST
DTSTART:20231105T070000
END:STANDARD
END:VTIMEZONE
BEGIN:VEVENT
DTSTART;TZID=America/Chicago:20220910T100000
DTEND;TZID=America/Chicago:20220910T130000
DTSTAMP:20260425T052218
CREATED:20220902T225528Z
LAST-MODIFIED:20220903T163542Z
UID:10000029-1662804000-1662814800@riverartsalliance.org
SUMMARY:MOVIE MANIA: TAKE 2 - Auditions at MCA
DESCRIPTION:Saturday | September 10 | 10 am – 1 pm\nValencia Arts Center | 1164 W Howard (10th) St.\nmca.smumn.edu \nThe Minnesota Conservatory for the Arts (MCA) invites young dancers\, ages 5-13 to audition for our children’s dance concert\, Movie Mania: Take 2 on Saturday\, September 10 from 10am-1pm (doors open at 9:30am). We will audition dancers interested in tap\, ballet\, pre-ballet\, hip hop\, contemporary and musical theatre. Dancers are not required to prepare their own pieces\, as MCA artistic staff will lead them in dance phrases during the audition. Performances will take place on December 2 and 3 at MCA. Learn more.
URL:https://riverartsalliance.org/event/movie-mania-take-2-auditions-at-mca/
LOCATION:Minnesota Conservatory for the Arts\, 1164 W 10th St.\, Winona\, MN\, United States
END:VEVENT
BEGIN:VEVENT
DTSTART;TZID=America/Chicago:20220910T130000
DTEND;TZID=America/Chicago:20220910T150000
DTSTAMP:20260425T052218
CREATED:20220830T215249Z
LAST-MODIFIED:20220830T215249Z
UID:10000026-1662814800-1662822000@riverartsalliance.org
SUMMARY:Pinch Pot Class at Winona Arts Center
DESCRIPTION:Winona Arts Center | 228 E 5th St.\nwinonaarts.org \nRichard Spiller\, a local potter from Wisconsin\, will offer a pinch pot class on September 10 at the Winona Arts Center. Using small balls of clay\, the students will use their natural ability to seize and grasp to form small vessels. The cost is $30 per person and payment is required prior to the class. Learn more.
URL:https://riverartsalliance.org/event/pinch-pot-class-at-winona-arts-center/
LOCATION:Winona Arts Center\, 228 E 5th St.\, Winona\, MN\, 55987\, United States
END:VEVENT
END:VCALENDAR