BEGIN:VCALENDAR
VERSION:2.0
PRODID:-//River Arts Alliance - ECPv6.15.20//NONSGML v1.0//EN
CALSCALE:GREGORIAN
METHOD:PUBLISH
X-ORIGINAL-URL:https://riverartsalliance.org
X-WR-CALDESC:Events for River Arts Alliance
REFRESH-INTERVAL;VALUE=DURATION:PT1H
X-Robots-Tag:noindex
X-PUBLISHED-TTL:PT1H
BEGIN:VTIMEZONE
TZID:America/Chicago
BEGIN:DAYLIGHT
TZOFFSETFROM:-0600
TZOFFSETTO:-0500
TZNAME:CDT
DTSTART:20210314T080000
END:DAYLIGHT
BEGIN:STANDARD
TZOFFSETFROM:-0500
TZOFFSETTO:-0600
TZNAME:CST
DTSTART:20211107T070000
END:STANDARD
BEGIN:DAYLIGHT
TZOFFSETFROM:-0600
TZOFFSETTO:-0500
TZNAME:CDT
DTSTART:20220313T080000
END:DAYLIGHT
BEGIN:STANDARD
TZOFFSETFROM:-0500
TZOFFSETTO:-0600
TZNAME:CST
DTSTART:20221106T070000
END:STANDARD
BEGIN:DAYLIGHT
TZOFFSETFROM:-0600
TZOFFSETTO:-0500
TZNAME:CDT
DTSTART:20230312T080000
END:DAYLIGHT
BEGIN:STANDARD
TZOFFSETFROM:-0500
TZOFFSETTO:-0600
TZNAME:CST
DTSTART:20231105T070000
END:STANDARD
END:VTIMEZONE
BEGIN:VEVENT
DTSTART;TZID=America/Chicago:20220911T150000
DTEND;TZID=America/Chicago:20220911T170000
DTSTAMP:20260425T052206
CREATED:20220831T021057Z
LAST-MODIFIED:20220831T021057Z
UID:10000020-1662908400-1662915600@riverartsalliance.org
SUMMARY:Opening Reception - Winona Arts Center Celebrates the Big 60
DESCRIPTION:Winona Arts Center | 228 E 5th St.\nwinonaarts.org \nBeginning September 9th and running through October 30th\, 2022\, the Winona Arts Center (WAC) will celebrate 60 years as Winona’s Home for the Arts. A busy schedule of films\, concerts\, classes\, workshops and more has been planned. The celebration will be highlighted by a retrospective of works by local artists on display in its gallery over those 60 years along with a timeline of important dates for WAC and the community. An opening reception will be held on Sunday\, September 11th from 3pm – 5pm and all are welcome. Learn more.
URL:https://riverartsalliance.org/event/opening-reception-winona-arts-center-celebrates-the-big-60/
LOCATION:Winona Arts Center\, 228 E 5th St.\, Winona\, MN\, 55987\, United States
END:VEVENT
END:VCALENDAR