BEGIN:VCALENDAR
VERSION:2.0
PRODID:-//River Arts Alliance - ECPv6.15.20//NONSGML v1.0//EN
CALSCALE:GREGORIAN
METHOD:PUBLISH
X-ORIGINAL-URL:https://riverartsalliance.org
X-WR-CALDESC:Events for River Arts Alliance
REFRESH-INTERVAL;VALUE=DURATION:PT1H
X-Robots-Tag:noindex
X-PUBLISHED-TTL:PT1H
BEGIN:VTIMEZONE
TZID:America/Chicago
BEGIN:DAYLIGHT
TZOFFSETFROM:-0600
TZOFFSETTO:-0500
TZNAME:CDT
DTSTART:20210314T080000
END:DAYLIGHT
BEGIN:STANDARD
TZOFFSETFROM:-0500
TZOFFSETTO:-0600
TZNAME:CST
DTSTART:20211107T070000
END:STANDARD
BEGIN:DAYLIGHT
TZOFFSETFROM:-0600
TZOFFSETTO:-0500
TZNAME:CDT
DTSTART:20220313T080000
END:DAYLIGHT
BEGIN:STANDARD
TZOFFSETFROM:-0500
TZOFFSETTO:-0600
TZNAME:CST
DTSTART:20221106T070000
END:STANDARD
BEGIN:DAYLIGHT
TZOFFSETFROM:-0600
TZOFFSETTO:-0500
TZNAME:CDT
DTSTART:20230312T080000
END:DAYLIGHT
BEGIN:STANDARD
TZOFFSETFROM:-0500
TZOFFSETTO:-0600
TZNAME:CST
DTSTART:20231105T070000
END:STANDARD
END:VTIMEZONE
BEGIN:VEVENT
DTSTART;TZID=America/Chicago:20220930T100000
DTEND;TZID=America/Chicago:20220930T170000
DTSTAMP:20260425T052207
CREATED:20220903T004619Z
LAST-MODIFIED:20220913T003049Z
UID:10000015-1664532000-1664557200@riverartsalliance.org
SUMMARY:Opening - Water Stories: New Work by Anne Labovitz at MMAM
DESCRIPTION:Minnesota Marine Art Museum | 800 Riverview Dr.\nmmam.org \nWater Stories: New Work by Anne Labovitz\, opens at the Minnesota Marine Art Museum (MMAM) on Sept. 30\, 2022. This two-gallery exhibition will feature large scale works by the Minnesota artist\, and will be on view through January 22\, 2023. The exhibition includes paintings\, an immersive room installation with audio\, and a public participatory section. “Water Stories reflects ideas of the regenerative qualities of water expressed visually through painting\, installation\, and sound\,” says Labovitz of her upcoming exhibition. Learn more. \n 
URL:https://riverartsalliance.org/event/opening-water-stories-new-work-by-anne-labovitz-at-mmam/
LOCATION:Minnesota Marine Art Museum\, 800 Riverview Dr.\, Winona\, MN\, 55987\, United States
END:VEVENT
BEGIN:VEVENT
DTSTART;TZID=America/Chicago:20220930T180000
DTEND;TZID=America/Chicago:20220930T210000
DTSTAMP:20260425T052207
CREATED:20220809T220238Z
LAST-MODIFIED:20220913T001750Z
UID:10000049-1664560800-1664571600@riverartsalliance.org
SUMMARY:Amanda Grace at Island City Brewing
DESCRIPTION:Island City Brewing Company | 65 E Front St.\nmusicbyamandagrace.com \nJoin RAA member Amanda Grace for some live music at Island City Brewing. \nShe recently released her seventh album\, “Please Dear Sun\,” last summer\, which has already been well received and has been nominated for “Blues + Roots Radio Album Of The Year.”
URL:https://riverartsalliance.org/event/amanda-grace-at-island-city-brewing/
LOCATION:Island City Brewing Company\, 65 E Front St\, Winona\, MN\, 55987\, United States
END:VEVENT
END:VCALENDAR