BEGIN:VCALENDAR
VERSION:2.0
PRODID:-//River Arts Alliance - ECPv6.15.20//NONSGML v1.0//EN
CALSCALE:GREGORIAN
METHOD:PUBLISH
X-ORIGINAL-URL:https://riverartsalliance.org
X-WR-CALDESC:Events for River Arts Alliance
REFRESH-INTERVAL;VALUE=DURATION:PT1H
X-Robots-Tag:noindex
X-PUBLISHED-TTL:PT1H
BEGIN:VTIMEZONE
TZID:America/Chicago
BEGIN:DAYLIGHT
TZOFFSETFROM:-0600
TZOFFSETTO:-0500
TZNAME:CDT
DTSTART:20210314T080000
END:DAYLIGHT
BEGIN:STANDARD
TZOFFSETFROM:-0500
TZOFFSETTO:-0600
TZNAME:CST
DTSTART:20211107T070000
END:STANDARD
BEGIN:DAYLIGHT
TZOFFSETFROM:-0600
TZOFFSETTO:-0500
TZNAME:CDT
DTSTART:20220313T080000
END:DAYLIGHT
BEGIN:STANDARD
TZOFFSETFROM:-0500
TZOFFSETTO:-0600
TZNAME:CST
DTSTART:20221106T070000
END:STANDARD
BEGIN:DAYLIGHT
TZOFFSETFROM:-0600
TZOFFSETTO:-0500
TZNAME:CDT
DTSTART:20230312T080000
END:DAYLIGHT
BEGIN:STANDARD
TZOFFSETFROM:-0500
TZOFFSETTO:-0600
TZNAME:CST
DTSTART:20231105T070000
END:STANDARD
END:VTIMEZONE
BEGIN:VEVENT
DTSTART;TZID=America/Chicago:20221016T143000
DTEND;TZID=America/Chicago:20221016T173000
DTSTAMP:20260425T052210
CREATED:20221011T172514Z
LAST-MODIFIED:20221011T172514Z
UID:10000105-1665930600-1665941400@riverartsalliance.org
SUMMARY:October Jazz Jam To Wrap Up Storytelling Festival
DESCRIPTION:Island City Brewing Company | 65 E Front St.\nH3OJazz.com \nCapping off three days of storytelling and music in Winona\, this month’s Jazz Jam at Island City Brewing Company on October 16\, 2022\, from 2:30 to 5:30 p.m. will benefit the first annual Sandbar Storytelling Festival. All donations to this welcome new addition to the local Arts scene will be matched by Island City Brewing and H3O Jazz Trio! Learn more.
URL:https://riverartsalliance.org/event/october-jazz-jam-to-wrap-up-storytelling-festival/
LOCATION:Island City Brewing Company\, 65 E Front St\, Winona\, MN\, 55987\, United States
END:VEVENT
BEGIN:VEVENT
DTSTART;TZID=America/Chicago:20221016T150000
DTEND;TZID=America/Chicago:20221016T150000
DTSTAMP:20260425T052210
CREATED:20221011T173104Z
LAST-MODIFIED:20221011T173104Z
UID:10000106-1665932400-1665932400@riverartsalliance.org
SUMMARY:Winds of Winona at Old Main
DESCRIPTION:Old Main | 20869 College Ave. | Galesville\, Wisconsin \nThe Winds of Winona will present a concert of woodwind music. It will be a mix of clarinet quartets\, flute and clarinet duos\, and quintets. Players are Ryan Ballanger\, Chris Buswell\, Ruth and Frank Bures clarinets and bass clarinet\, and Heidi Bryant\, flute. The selections will include classical\, movie\, traditional jazz tunes\, and rags. Come to sit “down wind” for some entertaining music from the Winds of Winona. Admission is $10 for adults\, $5 for college students\, and free for high school students and younger.
URL:https://riverartsalliance.org/event/winds-of-winona-at-old-main/
LOCATION:Old Main Cultural Center\, 20869 S College Ave.\, Galesville\, WI\, 54630\, United States
END:VEVENT
END:VCALENDAR