BEGIN:VCALENDAR
VERSION:2.0
PRODID:-//River Arts Alliance - ECPv6.15.20//NONSGML v1.0//EN
CALSCALE:GREGORIAN
METHOD:PUBLISH
X-ORIGINAL-URL:https://riverartsalliance.org
X-WR-CALDESC:Events for River Arts Alliance
REFRESH-INTERVAL;VALUE=DURATION:PT1H
X-Robots-Tag:noindex
X-PUBLISHED-TTL:PT1H
BEGIN:VTIMEZONE
TZID:America/Chicago
BEGIN:DAYLIGHT
TZOFFSETFROM:-0600
TZOFFSETTO:-0500
TZNAME:CDT
DTSTART:20210314T080000
END:DAYLIGHT
BEGIN:STANDARD
TZOFFSETFROM:-0500
TZOFFSETTO:-0600
TZNAME:CST
DTSTART:20211107T070000
END:STANDARD
BEGIN:DAYLIGHT
TZOFFSETFROM:-0600
TZOFFSETTO:-0500
TZNAME:CDT
DTSTART:20220313T080000
END:DAYLIGHT
BEGIN:STANDARD
TZOFFSETFROM:-0500
TZOFFSETTO:-0600
TZNAME:CST
DTSTART:20221106T070000
END:STANDARD
BEGIN:DAYLIGHT
TZOFFSETFROM:-0600
TZOFFSETTO:-0500
TZNAME:CDT
DTSTART:20230312T080000
END:DAYLIGHT
BEGIN:STANDARD
TZOFFSETFROM:-0500
TZOFFSETTO:-0600
TZNAME:CST
DTSTART:20231105T070000
END:STANDARD
END:VTIMEZONE
BEGIN:VEVENT
DTSTART;TZID=America/Chicago:20221106T170000
DTEND;TZID=America/Chicago:20221106T190000
DTSTAMP:20260423T060752
CREATED:20221030T005629Z
LAST-MODIFIED:20221030T005629Z
UID:10000040-1667754000-1667761200@riverartsalliance.org
SUMMARY:Gate City Jazz Band at the Black Horse
DESCRIPTION:Black Horse Bar and Grill | 34648 Old Homer Rd.\, Winona \nSunday\, November 6 from 5-7 pm will be the final 2022 monthly performance by the Gate City Jazz Band at the Black Horse Bar and Grill. Come one\, come all to hear enjoyable traditional jazz that will brighten and lighten your spirits. And at the same time you can also enjoy the delectable dining offered by the Black Horse. If all goes as planned\, the band will return the first Sunday of April\, 2023.
URL:https://riverartsalliance.org/event/gate-city-jazz-band-at-the-black-horse-3/
LOCATION:Black Horse Bar & Grill\, 34648 Old Homer Rd.\, Winona\, MN\, 55987\, United States
END:VEVENT
END:VCALENDAR