BEGIN:VCALENDAR
VERSION:2.0
PRODID:-//River Arts Alliance - ECPv6.15.20//NONSGML v1.0//EN
CALSCALE:GREGORIAN
METHOD:PUBLISH
X-WR-CALNAME:River Arts Alliance
X-ORIGINAL-URL:https://riverartsalliance.org
X-WR-CALDESC:Events for River Arts Alliance
REFRESH-INTERVAL;VALUE=DURATION:PT1H
X-Robots-Tag:noindex
X-PUBLISHED-TTL:PT1H
BEGIN:VTIMEZONE
TZID:America/Chicago
BEGIN:DAYLIGHT
TZOFFSETFROM:-0600
TZOFFSETTO:-0500
TZNAME:CDT
DTSTART:20210314T080000
END:DAYLIGHT
BEGIN:STANDARD
TZOFFSETFROM:-0500
TZOFFSETTO:-0600
TZNAME:CST
DTSTART:20211107T070000
END:STANDARD
BEGIN:DAYLIGHT
TZOFFSETFROM:-0600
TZOFFSETTO:-0500
TZNAME:CDT
DTSTART:20220313T080000
END:DAYLIGHT
BEGIN:STANDARD
TZOFFSETFROM:-0500
TZOFFSETTO:-0600
TZNAME:CST
DTSTART:20221106T070000
END:STANDARD
BEGIN:DAYLIGHT
TZOFFSETFROM:-0600
TZOFFSETTO:-0500
TZNAME:CDT
DTSTART:20230312T080000
END:DAYLIGHT
BEGIN:STANDARD
TZOFFSETFROM:-0500
TZOFFSETTO:-0600
TZNAME:CST
DTSTART:20231105T070000
END:STANDARD
END:VTIMEZONE
BEGIN:VEVENT
DTSTART;TZID=America/Chicago:20221107T130000
DTEND;TZID=America/Chicago:20221107T160000
DTSTAMP:20260423T060659
CREATED:20221025T222841Z
LAST-MODIFIED:20221106T022137Z
UID:10000122-1667826000-1667836800@riverartsalliance.org
SUMMARY:CANCELLED - Autumn Reflection Acrylic Painting Class at WAC
DESCRIPTION:UPDATE 11/5/22: This event has been cancelled. \nWinona Arts Center | 228 E 5th St.\nwinonaarts.org \nBarb Halvorson will teach an acrylic painting class on Monday\, November 7\, 2022 at the Winona Arts Center from 1 to 4 pm. Halvorson will bring sycamore leaves to the class for the students to paint designs and figures on the leaves. Students are not required to have any experience in painting to attend. The cost is $40 per person and $35 for WAC members. To register for the class\, email Barb at halvorsonart@hotmail.com. Learn more.
URL:https://riverartsalliance.org/event/autumn-reflection-acrylic-painting-class-at-wac/
LOCATION:Winona Arts Center\, 228 E 5th St.\, Winona\, MN\, 55987\, United States
END:VEVENT
END:VCALENDAR