BEGIN:VCALENDAR
VERSION:2.0
PRODID:-//River Arts Alliance - ECPv6.15.20//NONSGML v1.0//EN
CALSCALE:GREGORIAN
METHOD:PUBLISH
X-ORIGINAL-URL:https://riverartsalliance.org
X-WR-CALDESC:Events for River Arts Alliance
REFRESH-INTERVAL;VALUE=DURATION:PT1H
X-Robots-Tag:noindex
X-PUBLISHED-TTL:PT1H
BEGIN:VTIMEZONE
TZID:America/Chicago
BEGIN:DAYLIGHT
TZOFFSETFROM:-0600
TZOFFSETTO:-0500
TZNAME:CDT
DTSTART:20210314T080000
END:DAYLIGHT
BEGIN:STANDARD
TZOFFSETFROM:-0500
TZOFFSETTO:-0600
TZNAME:CST
DTSTART:20211107T070000
END:STANDARD
BEGIN:DAYLIGHT
TZOFFSETFROM:-0600
TZOFFSETTO:-0500
TZNAME:CDT
DTSTART:20220313T080000
END:DAYLIGHT
BEGIN:STANDARD
TZOFFSETFROM:-0500
TZOFFSETTO:-0600
TZNAME:CST
DTSTART:20221106T070000
END:STANDARD
BEGIN:DAYLIGHT
TZOFFSETFROM:-0600
TZOFFSETTO:-0500
TZNAME:CDT
DTSTART:20230312T080000
END:DAYLIGHT
BEGIN:STANDARD
TZOFFSETFROM:-0500
TZOFFSETTO:-0600
TZNAME:CST
DTSTART:20231105T070000
END:STANDARD
END:VTIMEZONE
BEGIN:VEVENT
DTSTART;TZID=America/Chicago:20221118T160000
DTEND;TZID=America/Chicago:20221118T200000
DTSTAMP:20260423T060751
CREATED:20220921T211540Z
LAST-MODIFIED:20220921T212100Z
UID:10000001-1668787200-1668801600@riverartsalliance.org
SUMMARY:Winona Art Walk & Tour
DESCRIPTION:More information to come. \nCall for Artists available here (deadline October 7).
URL:https://riverartsalliance.org/event/winona-art-walk-tour/2022-11-18/
LOCATION:MN
END:VEVENT
BEGIN:VEVENT
DTSTART;TZID=America/Chicago:20221118T180000
DTEND;TZID=America/Chicago:20221118T200000
DTSTAMP:20260423T060751
CREATED:20221115T041804Z
LAST-MODIFIED:20221115T041804Z
UID:10000030-1668794400-1668801600@riverartsalliance.org
SUMMARY:Flutistry at Blooming Grounds
DESCRIPTION:Blooming Grounds Coffee House | 50 E 3rd St. \nFlutistry will perform a wide variety of music\, from classical to ragtime to contemporary\, during the dinner hours on Friday\, November 18th at Blooming Grounds. Founded in 2011\, this local flute ensemble consists of three original members\, Arlene Boll\, Heidi Bryant\, and Janet Heukeshoven\, and Amanda Wenzel who joined in 2017. Enjoy a hot beverage or maybe a cold beer and some pizza with your music!
URL:https://riverartsalliance.org/event/flutistry-at-blooming-grounds/
LOCATION:Blooming Grounds Coffee House\, 50 E 3rd St.\, Winona\, MN\, 55987\, United States
END:VEVENT
END:VCALENDAR