BEGIN:VCALENDAR
VERSION:2.0
PRODID:-//River Arts Alliance - ECPv6.15.20//NONSGML v1.0//EN
CALSCALE:GREGORIAN
METHOD:PUBLISH
X-WR-CALNAME:River Arts Alliance
X-ORIGINAL-URL:https://riverartsalliance.org
X-WR-CALDESC:Events for River Arts Alliance
REFRESH-INTERVAL;VALUE=DURATION:PT1H
X-Robots-Tag:noindex
X-PUBLISHED-TTL:PT1H
BEGIN:VTIMEZONE
TZID:America/Chicago
BEGIN:DAYLIGHT
TZOFFSETFROM:-0600
TZOFFSETTO:-0500
TZNAME:CDT
DTSTART:20210314T080000
END:DAYLIGHT
BEGIN:STANDARD
TZOFFSETFROM:-0500
TZOFFSETTO:-0600
TZNAME:CST
DTSTART:20211107T070000
END:STANDARD
BEGIN:DAYLIGHT
TZOFFSETFROM:-0600
TZOFFSETTO:-0500
TZNAME:CDT
DTSTART:20220313T080000
END:DAYLIGHT
BEGIN:STANDARD
TZOFFSETFROM:-0500
TZOFFSETTO:-0600
TZNAME:CST
DTSTART:20221106T070000
END:STANDARD
BEGIN:DAYLIGHT
TZOFFSETFROM:-0600
TZOFFSETTO:-0500
TZNAME:CDT
DTSTART:20230312T080000
END:DAYLIGHT
BEGIN:STANDARD
TZOFFSETFROM:-0500
TZOFFSETTO:-0600
TZNAME:CST
DTSTART:20231105T070000
END:STANDARD
END:VTIMEZONE
BEGIN:VEVENT
DTSTART;TZID=America/Chicago:20221119T100000
DTEND;TZID=America/Chicago:20221119T113000
DTSTAMP:20260423T060657
CREATED:20220710T232511Z
LAST-MODIFIED:20221115T042651Z
UID:10000075-1668852000-1668857400@riverartsalliance.org
SUMMARY:artsXchange with Glass Artist Melissa Janda at MMAM
DESCRIPTION:Minnesota Marine Art Museum | 800 Riverview Dr.\nmmam.org/artsxchange \nGlass! Such a compelling\, life changing material throughout humanity. For every day use\, and also for artistic expression. What makes it so captivating? We will use the stained glass window in the museum entrance as a springboard for conversation\, talking about all the myriad of ways glass has been used as an art medium\, and our local connections. \nMelissa Janda has worked with glass throughout her 30 year career in art\, mainly with leaded glass. She is the lead painter and art department manager for Willet Hauser Architectural Glass in Winona. This event is free for members of MMAM or RAA and is free with general museum admission for all others; visit this link to register. Learn more.
URL:https://riverartsalliance.org/event/artsxchange-at-mmam-with-melissa-janda/
LOCATION:Minnesota Marine Art Museum\, 800 Riverview Dr.\, Winona\, MN\, 55987\, United States
END:VEVENT
BEGIN:VEVENT
DTSTART;TZID=America/Chicago:20221119T100000
DTEND;TZID=America/Chicago:20221119T160000
DTSTAMP:20260423T060657
CREATED:20220921T211540Z
LAST-MODIFIED:20220921T212100Z
UID:10000002-1668852000-1668873600@riverartsalliance.org
SUMMARY:Winona Art Walk & Tour
DESCRIPTION:More information to come. \nCall for Artists available here (deadline October 7).
URL:https://riverartsalliance.org/event/winona-art-walk-tour/2022-11-19/
LOCATION:MN
END:VEVENT
END:VCALENDAR