BEGIN:VCALENDAR
VERSION:2.0
PRODID:-//River Arts Alliance - ECPv6.15.20//NONSGML v1.0//EN
CALSCALE:GREGORIAN
METHOD:PUBLISH
X-WR-CALNAME:River Arts Alliance
X-ORIGINAL-URL:https://riverartsalliance.org
X-WR-CALDESC:Events for River Arts Alliance
REFRESH-INTERVAL;VALUE=DURATION:PT1H
X-Robots-Tag:noindex
X-PUBLISHED-TTL:PT1H
BEGIN:VTIMEZONE
TZID:America/Chicago
BEGIN:DAYLIGHT
TZOFFSETFROM:-0600
TZOFFSETTO:-0500
TZNAME:CDT
DTSTART:20210314T080000
END:DAYLIGHT
BEGIN:STANDARD
TZOFFSETFROM:-0500
TZOFFSETTO:-0600
TZNAME:CST
DTSTART:20211107T070000
END:STANDARD
BEGIN:DAYLIGHT
TZOFFSETFROM:-0600
TZOFFSETTO:-0500
TZNAME:CDT
DTSTART:20220313T080000
END:DAYLIGHT
BEGIN:STANDARD
TZOFFSETFROM:-0500
TZOFFSETTO:-0600
TZNAME:CST
DTSTART:20221106T070000
END:STANDARD
BEGIN:DAYLIGHT
TZOFFSETFROM:-0600
TZOFFSETTO:-0500
TZNAME:CDT
DTSTART:20230312T080000
END:DAYLIGHT
BEGIN:STANDARD
TZOFFSETFROM:-0500
TZOFFSETTO:-0600
TZNAME:CST
DTSTART:20231105T070000
END:STANDARD
END:VTIMEZONE
BEGIN:VEVENT
DTSTART;TZID=America/Chicago:20221120T120000
DTEND;TZID=America/Chicago:20221120T160000
DTSTAMP:20260423T060657
CREATED:20220921T211540Z
LAST-MODIFIED:20220921T212100Z
UID:10000003-1668945600-1668960000@riverartsalliance.org
SUMMARY:Winona Art Walk & Tour
DESCRIPTION:More information to come. \nCall for Artists available here (deadline October 7).
URL:https://riverartsalliance.org/event/winona-art-walk-tour/2022-11-20/
LOCATION:MN
END:VEVENT
BEGIN:VEVENT
DTSTART;TZID=America/Chicago:20221120T143000
DTEND;TZID=America/Chicago:20221120T173000
DTSTAMP:20260423T060657
CREATED:20221116T183133Z
LAST-MODIFIED:20221116T183133Z
UID:10000032-1668954600-1668965400@riverartsalliance.org
SUMMARY:November Jazz Jam Recipient is Winona Afghan Support Network
DESCRIPTION:Island City Brewing Company | 65 E Front St.\nH3OJazz.com \nIn the spirit of Thanksgiving\, the monthly Jazz Jam at Island City Brewing Company on Sunday\, November 20 will benefit the Winona Afghan Support Network. All donations to this important local resource will be matched by Island City Brewing and H3O Jazz Trio! The Winona Afghan Support Network (WASN) is a community coalition that started meeting during the late summer of 2021 to support Afghan refugees in their transition to creating a home in the United States. \nSince April 2021\, H3O and Island City have helped support local nonprofits with nearly $18\,000 in total donations through the generosity of their Jazz Jam patrons! Learn more.
URL:https://riverartsalliance.org/event/november-jazz-jam-recipient-is-winona-afghan-support-network/
LOCATION:Island City Brewing Company\, 65 E Front St\, Winona\, MN\, 55987\, United States
END:VEVENT
END:VCALENDAR