BEGIN:VCALENDAR
VERSION:2.0
PRODID:-//River Arts Alliance - ECPv6.15.20//NONSGML v1.0//EN
CALSCALE:GREGORIAN
METHOD:PUBLISH
X-ORIGINAL-URL:https://riverartsalliance.org
X-WR-CALDESC:Events for River Arts Alliance
REFRESH-INTERVAL;VALUE=DURATION:PT1H
X-Robots-Tag:noindex
X-PUBLISHED-TTL:PT1H
BEGIN:VTIMEZONE
TZID:America/Chicago
BEGIN:DAYLIGHT
TZOFFSETFROM:-0600
TZOFFSETTO:-0500
TZNAME:CDT
DTSTART:20210314T080000
END:DAYLIGHT
BEGIN:STANDARD
TZOFFSETFROM:-0500
TZOFFSETTO:-0600
TZNAME:CST
DTSTART:20211107T070000
END:STANDARD
BEGIN:DAYLIGHT
TZOFFSETFROM:-0600
TZOFFSETTO:-0500
TZNAME:CDT
DTSTART:20220313T080000
END:DAYLIGHT
BEGIN:STANDARD
TZOFFSETFROM:-0500
TZOFFSETTO:-0600
TZNAME:CST
DTSTART:20221106T070000
END:STANDARD
BEGIN:DAYLIGHT
TZOFFSETFROM:-0600
TZOFFSETTO:-0500
TZNAME:CDT
DTSTART:20230312T080000
END:DAYLIGHT
BEGIN:STANDARD
TZOFFSETFROM:-0500
TZOFFSETTO:-0600
TZNAME:CST
DTSTART:20231105T070000
END:STANDARD
END:VTIMEZONE
BEGIN:VEVENT
DTSTART;VALUE=DATE:20221201
DTEND;VALUE=DATE:20221202
DTSTAMP:20260423T042658
CREATED:20221130T214904Z
LAST-MODIFIED:20221130T214904Z
UID:10000134-1669852800-1669939199@riverartsalliance.org
SUMMARY:Exhibition Opens -- Paintings by Chris Peterson at WAC
DESCRIPTION:December 1 through January 22\nWinona Arts Center | 228 E 5th St.\nwinonaarts.org \nChris Peterson will have an exhibit of her paintings from December 1\, 2022 through January 22\, 2023 at the Winona Arts Center. For the past 15 years or so\, Peterson has enjoyed studying many techniques for painting in watercolors\, acrylics\, encaustic and most recently oils. Every year she has attended a workshop or two with different artists in many locations. These experiences have resulted in this exhibit of extremely diverse works\, including portraits\, abstracts\, still life\, and a few landscapes. \nGallery hours at the Winona Arts Center are Wednesdays from 3pm to 6pm and Sundays from 1pm to 4pm\, and one hour prior to concerts. Learn more.
URL:https://riverartsalliance.org/event/exhibition-opens-paintings-by-chris-peterson-at-wac/
LOCATION:Winona Arts Center\, 228 E 5th St.\, Winona\, MN\, 55987\, United States
END:VEVENT
END:VCALENDAR