BEGIN:VCALENDAR
VERSION:2.0
PRODID:-//River Arts Alliance - ECPv6.15.20//NONSGML v1.0//EN
CALSCALE:GREGORIAN
METHOD:PUBLISH
X-ORIGINAL-URL:https://riverartsalliance.org
X-WR-CALDESC:Events for River Arts Alliance
REFRESH-INTERVAL;VALUE=DURATION:PT1H
X-Robots-Tag:noindex
X-PUBLISHED-TTL:PT1H
BEGIN:VTIMEZONE
TZID:America/Chicago
BEGIN:DAYLIGHT
TZOFFSETFROM:-0600
TZOFFSETTO:-0500
TZNAME:CDT
DTSTART:20210314T080000
END:DAYLIGHT
BEGIN:STANDARD
TZOFFSETFROM:-0500
TZOFFSETTO:-0600
TZNAME:CST
DTSTART:20211107T070000
END:STANDARD
BEGIN:DAYLIGHT
TZOFFSETFROM:-0600
TZOFFSETTO:-0500
TZNAME:CDT
DTSTART:20220313T080000
END:DAYLIGHT
BEGIN:STANDARD
TZOFFSETFROM:-0500
TZOFFSETTO:-0600
TZNAME:CST
DTSTART:20221106T070000
END:STANDARD
BEGIN:DAYLIGHT
TZOFFSETFROM:-0600
TZOFFSETTO:-0500
TZNAME:CDT
DTSTART:20230312T080000
END:DAYLIGHT
BEGIN:STANDARD
TZOFFSETFROM:-0500
TZOFFSETTO:-0600
TZNAME:CST
DTSTART:20231105T070000
END:STANDARD
END:VTIMEZONE
BEGIN:VEVENT
DTSTART;TZID=America/Chicago:20221202T170000
DTEND;TZID=America/Chicago:20221202T190000
DTSTAMP:20260423T042656
CREATED:20221018T001206Z
LAST-MODIFIED:20221128T155927Z
UID:10000112-1670000400-1670007600@riverartsalliance.org
SUMMARY:RAA Art Schmooze at Acoustic Café
DESCRIPTION:Acoustic Café | 77 Lafayette St. \nYou’re invited to a River Arts Alliance Art Schmooze on Friday evening\, December 2\, at the Acoustic Café in downtown Winona. Join us for a fun opportunity to socialize with fellow local artists and arts supporters\, and to learn more about what RAA does and how you can be involved. The event is free and open to the public; current RAA members and non-members are welcome. \nThe Schmooze will include a brief program beginning at 6 pm\, with social time before and after. Food and beverages will be available for purchase. With questions\, please contact RAA Arts Administrator Johanna Rupprecht at admin@riverartsalliance.org.
URL:https://riverartsalliance.org/event/raa-art-schmooze-at-acoustic-cafe/
LOCATION:Acoustic Cafe\, 77 Lafayette St.\, Winona\, MN\, 55987\, United States
END:VEVENT
BEGIN:VEVENT
DTSTART;TZID=America/Chicago:20221202T183000
DTEND;TZID=America/Chicago:20221202T191500
DTSTAMP:20260423T042656
CREATED:20221104T184026Z
LAST-MODIFIED:20221104T184026Z
UID:10000027-1670005800-1670008500@riverartsalliance.org
SUMMARY:Movie Mania\, Take 2!
DESCRIPTION:Academy Theatre | Valencia Arts Center | 1164 W 10th (Howard) St.\nmca.smumn.edu \nThe Minnesota Conservatory for the Arts (MCA) invites our community to watch our young dancers ages 5-13 as they perform dances for Movie Mania\, Take 2! They will be performing ballet\, contemporary and musical theatre genres to some of our favorite movie songs\, including Pirates of the Caribbean and The Little Mermaid. Performances are Friday\, December 2nd at 6:30pm and Saturday\, December 3rd at 3:00pm. Tickets are $7 for students/seniors (65+) and $15 for adults and may be purchased beginning Monday\, Nov. 7th in the MCA office during business hours or one hour prior to the performance. CASH OR CHECK ONLY. Learn more.
URL:https://riverartsalliance.org/event/movie-mania-take-2/2022-12-02/
LOCATION:Minnesota Conservatory for the Arts\, 1164 W 10th St.\, Winona\, MN\, United States
END:VEVENT
BEGIN:VEVENT
DTSTART;TZID=America/Chicago:20221202T190000
DTEND;TZID=America/Chicago:20221202T190000
DTSTAMP:20260423T042656
CREATED:20221121T165153Z
LAST-MODIFIED:20221121T165153Z
UID:10000128-1670007600-1670007600@riverartsalliance.org
SUMMARY:Strictly Ballroom: Film Showing at WAC
DESCRIPTION:Winona Arts Center | 228 E 5th St.\nwinonaarts.org \nThe Winona Film Society is pleased to feature the film Strictly Ballroom on Friday\, December 2\, at the Winona Arts Center. From director Baz Luhrmann (Moulin Rouge!\, Elvis) comes the hilarious\, romantic comedy that will leave you laughing and cheering for more. This is the magical story of a championship ballroom dancer who will stop at nothing to win. Even if it means a rewriting of the rules! With a great soundtrack and incredible dance sequences\, this feel-good film will dance straight to your heart. \n1992. 95 minutes. (English.) There is no fee for the film and doors will open at 6:30 pm. Learn more.
URL:https://riverartsalliance.org/event/strictly-ballroom-film-showing-at-wac/
LOCATION:Winona Arts Center\, 228 E 5th St.\, Winona\, MN\, 55987\, United States
END:VEVENT
END:VCALENDAR