BEGIN:VCALENDAR
VERSION:2.0
PRODID:-//River Arts Alliance - ECPv6.15.20//NONSGML v1.0//EN
CALSCALE:GREGORIAN
METHOD:PUBLISH
X-WR-CALNAME:River Arts Alliance
X-ORIGINAL-URL:https://riverartsalliance.org
X-WR-CALDESC:Events for River Arts Alliance
REFRESH-INTERVAL;VALUE=DURATION:PT1H
X-Robots-Tag:noindex
X-PUBLISHED-TTL:PT1H
BEGIN:VTIMEZONE
TZID:America/Chicago
BEGIN:DAYLIGHT
TZOFFSETFROM:-0600
TZOFFSETTO:-0500
TZNAME:CDT
DTSTART:20210314T080000
END:DAYLIGHT
BEGIN:STANDARD
TZOFFSETFROM:-0500
TZOFFSETTO:-0600
TZNAME:CST
DTSTART:20211107T070000
END:STANDARD
BEGIN:DAYLIGHT
TZOFFSETFROM:-0600
TZOFFSETTO:-0500
TZNAME:CDT
DTSTART:20220313T080000
END:DAYLIGHT
BEGIN:STANDARD
TZOFFSETFROM:-0500
TZOFFSETTO:-0600
TZNAME:CST
DTSTART:20221106T070000
END:STANDARD
BEGIN:DAYLIGHT
TZOFFSETFROM:-0600
TZOFFSETTO:-0500
TZNAME:CDT
DTSTART:20230312T080000
END:DAYLIGHT
BEGIN:STANDARD
TZOFFSETFROM:-0500
TZOFFSETTO:-0600
TZNAME:CST
DTSTART:20231105T070000
END:STANDARD
END:VTIMEZONE
BEGIN:VEVENT
DTSTART;TZID=America/Chicago:20221210T130000
DTEND;TZID=America/Chicago:20221210T160000
DTSTAMP:20260423T042636
CREATED:20221201T214423Z
LAST-MODIFIED:20221201T214423Z
UID:10000137-1670677200-1670688000@riverartsalliance.org
SUMMARY:Holidaze Event at the Winona Arts Center
DESCRIPTION:Winona Arts Center | 228 E 5th St.\nwinonaarts.org \nThe Winona Arts Center is pleased to host the free annual Holidaze event on December 10 from 1 to 4 pm. Holidaze is a celebration of winter holidays and cultural traditions and we will celebrate the season through music\, stories and art. The printing press will be available throughout the afternoon to make your own holiday cards. Learn more.
URL:https://riverartsalliance.org/event/holidaze-event-at-the-winona-arts-center/
LOCATION:Winona Arts Center\, 228 E 5th St.\, Winona\, MN\, 55987\, United States
END:VEVENT
BEGIN:VEVENT
DTSTART;TZID=America/Chicago:20221210T133000
DTEND;TZID=America/Chicago:20221210T150000
DTSTAMP:20260423T042636
CREATED:20221205T201021Z
LAST-MODIFIED:20221205T201021Z
UID:10000161-1670679000-1670684400@riverartsalliance.org
SUMMARY:Art Show Reception with Cary Wyninger
DESCRIPTION:Old Main Cultural Center | 20869 College Ave. | Galesville\, WI\ncarywyninger.com \nOn December 10\, Old Main will host a reception for their art show with Cary Wyninger. Cary creates pet portraits and is inspired by nature.
URL:https://riverartsalliance.org/event/art-show-reception-with-cary-wyninger/
LOCATION:Old Main Cultural Center\, 20869 S College Ave.\, Galesville\, WI\, 54630\, United States
END:VEVENT
BEGIN:VEVENT
DTSTART;TZID=America/Chicago:20221210T150000
DTEND;TZID=America/Chicago:20221210T170000
DTSTAMP:20260423T042636
CREATED:20221205T205318Z
LAST-MODIFIED:20221205T205318Z
UID:10000162-1670684400-1670691600@riverartsalliance.org
SUMMARY:Tuned Up Concert at Old Main
DESCRIPTION:Old Main Cultural Center | 20869 College Ave. | Galesville\, WI\nfacebook.com/OldMainGalesville \nOn Saturday\, December 10\, the musical duo Tuned Up\, voice and guitar\, will present a concert of popular and holiday songs on the first floor at Old Main. Tuned Up features our home town girl\, Julie Malesytcki\, and her New England counterpart\, Jimmy Simpson. Learn more.
URL:https://riverartsalliance.org/event/tuned-up-concert-at-old-main/
LOCATION:Old Main Cultural Center\, 20869 S College Ave.\, Galesville\, WI\, 54630\, United States
END:VEVENT
BEGIN:VEVENT
DTSTART;TZID=America/Chicago:20221210T193000
DTEND;TZID=America/Chicago:20221210T193000
DTSTAMP:20260423T042636
CREATED:20221205T185924Z
LAST-MODIFIED:20221205T185924Z
UID:10000159-1670700600-1670700600@riverartsalliance.org
SUMMARY:Festival of 9 Lessons and Carols\, SMU Choirs
DESCRIPTION:Chapel of Saint Mary of the Angels | 1160 W Wabasha St. \nFestival of 9 Lessons and Carols\, SMU Choirs\, directed by Dr. Janet Heukeshoven \nMusic at Saint Mary’s presents three different December performances December 8-11th\, and the Red Bird Club jazz concert happens twice! Come enjoy a variety of performances performed by Saint Mary’s University musicians. All concerts are free\, and doors will open 30 minutes before concert time. Learn more.
URL:https://riverartsalliance.org/event/festival-of-9-lessons-and-carols-smu-choirs/
LOCATION:Chapel of Saint Mary of the Angels\, 1160 W Wabasha St.\, Winona\, MN\, 55987\, United States
END:VEVENT
END:VCALENDAR