BEGIN:VCALENDAR
VERSION:2.0
PRODID:-//River Arts Alliance - ECPv6.15.20//NONSGML v1.0//EN
CALSCALE:GREGORIAN
METHOD:PUBLISH
X-WR-CALNAME:River Arts Alliance
X-ORIGINAL-URL:https://riverartsalliance.org
X-WR-CALDESC:Events for River Arts Alliance
REFRESH-INTERVAL;VALUE=DURATION:PT1H
X-Robots-Tag:noindex
X-PUBLISHED-TTL:PT1H
BEGIN:VTIMEZONE
TZID:America/Chicago
BEGIN:DAYLIGHT
TZOFFSETFROM:-0600
TZOFFSETTO:-0500
TZNAME:CDT
DTSTART:20210314T080000
END:DAYLIGHT
BEGIN:STANDARD
TZOFFSETFROM:-0500
TZOFFSETTO:-0600
TZNAME:CST
DTSTART:20211107T070000
END:STANDARD
BEGIN:DAYLIGHT
TZOFFSETFROM:-0600
TZOFFSETTO:-0500
TZNAME:CDT
DTSTART:20220313T080000
END:DAYLIGHT
BEGIN:STANDARD
TZOFFSETFROM:-0500
TZOFFSETTO:-0600
TZNAME:CST
DTSTART:20221106T070000
END:STANDARD
BEGIN:DAYLIGHT
TZOFFSETFROM:-0600
TZOFFSETTO:-0500
TZNAME:CDT
DTSTART:20230312T080000
END:DAYLIGHT
BEGIN:STANDARD
TZOFFSETFROM:-0500
TZOFFSETTO:-0600
TZNAME:CST
DTSTART:20231105T070000
END:STANDARD
END:VTIMEZONE
BEGIN:VEVENT
DTSTART;TZID=America/Chicago:20221217T140000
DTEND;TZID=America/Chicago:20221217T160000
DTSTAMP:20260423T042608
CREATED:20221206T234435Z
LAST-MODIFIED:20221206T234435Z
UID:10000164-1671285600-1671292800@riverartsalliance.org
SUMMARY:Creative Laureate Celebration Open House
DESCRIPTION:Winona Arts Center | 228 E 5th St.\nwinonaarts.org \nAn open house recognizing Sarah Johnson\, Creative Laureate for the City of Winona\, will be on Saturday\, December 17\, from 2 to 4 pm at the Winona Arts Center. Johnson\, the first ever Creative Laureate for the City of Winona\, is wrapping up her three-year term. A short program will begin at 2:30 pm with Sarah giving an overview of her activities and accomplishments during her tenure as Creative Laureate. And\, as always\, Sarah will provide a community art activity. Learn more.
URL:https://riverartsalliance.org/event/creative-laureate-celebration-open-house/
LOCATION:Winona Arts Center\, 228 E 5th St.\, Winona\, MN\, 55987\, United States
END:VEVENT
END:VCALENDAR