BEGIN:VCALENDAR
VERSION:2.0
PRODID:-//River Arts Alliance - ECPv6.15.20//NONSGML v1.0//EN
CALSCALE:GREGORIAN
METHOD:PUBLISH
X-ORIGINAL-URL:https://riverartsalliance.org
X-WR-CALDESC:Events for River Arts Alliance
REFRESH-INTERVAL;VALUE=DURATION:PT1H
X-Robots-Tag:noindex
X-PUBLISHED-TTL:PT1H
BEGIN:VTIMEZONE
TZID:America/Chicago
BEGIN:DAYLIGHT
TZOFFSETFROM:-0600
TZOFFSETTO:-0500
TZNAME:CDT
DTSTART:20220313T080000
END:DAYLIGHT
BEGIN:STANDARD
TZOFFSETFROM:-0500
TZOFFSETTO:-0600
TZNAME:CST
DTSTART:20221106T070000
END:STANDARD
BEGIN:DAYLIGHT
TZOFFSETFROM:-0600
TZOFFSETTO:-0500
TZNAME:CDT
DTSTART:20230312T080000
END:DAYLIGHT
BEGIN:STANDARD
TZOFFSETFROM:-0500
TZOFFSETTO:-0600
TZNAME:CST
DTSTART:20231105T070000
END:STANDARD
BEGIN:DAYLIGHT
TZOFFSETFROM:-0600
TZOFFSETTO:-0500
TZNAME:CDT
DTSTART:20240310T080000
END:DAYLIGHT
BEGIN:STANDARD
TZOFFSETFROM:-0500
TZOFFSETTO:-0600
TZNAME:CST
DTSTART:20241103T070000
END:STANDARD
END:VTIMEZONE
BEGIN:VEVENT
DTSTART;TZID=America/Chicago:20230106T160000
DTEND;TZID=America/Chicago:20230106T180000
DTSTAMP:20260423T024025
CREATED:20221222T173516Z
LAST-MODIFIED:20221222T173516Z
UID:10000178-1673020800-1673028000@riverartsalliance.org
SUMMARY:Opening Reception - Paintings and Drawings of Vernacular Buildings by Paul Burmeister at WCHC
DESCRIPTION:Winona County History Center | 160 Johnson St.\nwww.winonahistory.org/artgallery \nA new art gallery show will open with a reception on Friday\, January 6 at the Winona County History Center in partnership with the River Arts Alliance. Paintings and Drawings of Vernacular Buildings by Paul Burmeister will be shown January 6 – February 19. \nThe acrylic paintings in this show are built up very slowly\, from initial drawing to final adjustments\, using many\, mostly thin layers of transparent-to-translucent-to-opaque color. Regional\, vernacular building types have become a priority for the artist in the last decade. This subject matter allows him to exercise abstract interests in rhythm\, proportion\, and especially color. Learn more.
URL:https://riverartsalliance.org/event/opening-reception-paintings-and-drawings-of-vernacular-buildings-by-paul-burmeister-at-wchc/
LOCATION:Winona County History Center\, 160 Johnson St\, Winona\, MN\, 55987\, United States
END:VEVENT
END:VCALENDAR