BEGIN:VCALENDAR
VERSION:2.0
PRODID:-//River Arts Alliance - ECPv6.15.20//NONSGML v1.0//EN
CALSCALE:GREGORIAN
METHOD:PUBLISH
X-WR-CALNAME:River Arts Alliance
X-ORIGINAL-URL:https://riverartsalliance.org
X-WR-CALDESC:Events for River Arts Alliance
REFRESH-INTERVAL;VALUE=DURATION:PT1H
X-Robots-Tag:noindex
X-PUBLISHED-TTL:PT1H
BEGIN:VTIMEZONE
TZID:America/Chicago
BEGIN:DAYLIGHT
TZOFFSETFROM:-0600
TZOFFSETTO:-0500
TZNAME:CDT
DTSTART:20220313T080000
END:DAYLIGHT
BEGIN:STANDARD
TZOFFSETFROM:-0500
TZOFFSETTO:-0600
TZNAME:CST
DTSTART:20221106T070000
END:STANDARD
BEGIN:DAYLIGHT
TZOFFSETFROM:-0600
TZOFFSETTO:-0500
TZNAME:CDT
DTSTART:20230312T080000
END:DAYLIGHT
BEGIN:STANDARD
TZOFFSETFROM:-0500
TZOFFSETTO:-0600
TZNAME:CST
DTSTART:20231105T070000
END:STANDARD
BEGIN:DAYLIGHT
TZOFFSETFROM:-0600
TZOFFSETTO:-0500
TZNAME:CDT
DTSTART:20240310T080000
END:DAYLIGHT
BEGIN:STANDARD
TZOFFSETFROM:-0500
TZOFFSETTO:-0600
TZNAME:CST
DTSTART:20241103T070000
END:STANDARD
END:VTIMEZONE
BEGIN:VEVENT
DTSTART;TZID=America/Chicago:20230115T143000
DTEND;TZID=America/Chicago:20230115T173000
DTSTAMP:20260423T024005
CREATED:20230105T180820Z
LAST-MODIFIED:20230105T180820Z
UID:10000187-1673793000-1673803800@riverartsalliance.org
SUMMARY:Jazz Jam Supporting Friends of the Winona Public Library
DESCRIPTION:Island City Brewing Company | 65 E Front St.\nH3OJazz.com \nThe Island City Jazz Jams return for a 5th season on January 15\, with all donations supporting the Friends of the Winona Public Library. Your contribution will be tripled by H3O Jazz Trio and Island City Brewing Company! From volunteering and creating public awareness to encouraging gifts\, the Friends of the Winona Public Library value\, support\, and champion Winona’s jewel – the public library. \nAs of December\, H3O Jazz Trio and Island City Brewing have helped support local nonprofits with over $20\,000 in total donations through the generosity of Jazz Jam patrons! The December Jazz Jam donated $900 to Engage Winona’s Giving Campaign 2022. Learn more.
URL:https://riverartsalliance.org/event/jazz-jam-supporting-friends-of-the-winona-public-library/
LOCATION:Island City Brewing Company\, 65 E Front St\, Winona\, MN\, 55987\, United States
END:VEVENT
END:VCALENDAR