BEGIN:VCALENDAR
VERSION:2.0
PRODID:-//River Arts Alliance - ECPv6.15.20//NONSGML v1.0//EN
CALSCALE:GREGORIAN
METHOD:PUBLISH
X-WR-CALNAME:River Arts Alliance
X-ORIGINAL-URL:https://riverartsalliance.org
X-WR-CALDESC:Events for River Arts Alliance
REFRESH-INTERVAL;VALUE=DURATION:PT1H
X-Robots-Tag:noindex
X-PUBLISHED-TTL:PT1H
BEGIN:VTIMEZONE
TZID:America/Chicago
BEGIN:DAYLIGHT
TZOFFSETFROM:-0600
TZOFFSETTO:-0500
TZNAME:CDT
DTSTART:20220313T080000
END:DAYLIGHT
BEGIN:STANDARD
TZOFFSETFROM:-0500
TZOFFSETTO:-0600
TZNAME:CST
DTSTART:20221106T070000
END:STANDARD
BEGIN:DAYLIGHT
TZOFFSETFROM:-0600
TZOFFSETTO:-0500
TZNAME:CDT
DTSTART:20230312T080000
END:DAYLIGHT
BEGIN:STANDARD
TZOFFSETFROM:-0500
TZOFFSETTO:-0600
TZNAME:CST
DTSTART:20231105T070000
END:STANDARD
BEGIN:DAYLIGHT
TZOFFSETFROM:-0600
TZOFFSETTO:-0500
TZNAME:CDT
DTSTART:20240310T080000
END:DAYLIGHT
BEGIN:STANDARD
TZOFFSETFROM:-0500
TZOFFSETTO:-0600
TZNAME:CST
DTSTART:20241103T070000
END:STANDARD
END:VTIMEZONE
BEGIN:VEVENT
DTSTART;TZID=America/Chicago:20230118T193000
DTEND;TZID=America/Chicago:20230118T210000
DTSTAMP:20260423T023953
CREATED:20230109T173108Z
LAST-MODIFIED:20230109T173108Z
UID:10000057-1674070200-1674075600@riverartsalliance.org
SUMMARY:Ground Bass: Basses\, Bach\, and Bassoon!
DESCRIPTION:WSU DuFresne Performing Arts Center Recital Hall | 450 Johnson St.\nwinona.edu/music \nThe WSU Department of Music is excited to host a chamber recital given by Ground Bass\, featuring members of the Lyra Baroque Orchestra and Joe Jones\, bassoon: Basses\, Bach\, and Bassoon! The recital will be held in the WSU DuFresne Performing Arts Center Recital Hall on Wednesday\, January 18 at 7:30 pm. Admission is free to the general public. This activity is made possible by the voters of Minnesota through a grant from the Minnesota State Arts Board\, thanks to a legislative appropriation from the arts and cultural heritage fund. Learn more.
URL:https://riverartsalliance.org/event/ground-bass-basses-bach-and-bassoon/
LOCATION:WSU DuFresne Performing Arts Center Recital Hall\, 450 Johnson St.\, Winona\, MN\, 55987\, United States
END:VEVENT
END:VCALENDAR