BEGIN:VCALENDAR
VERSION:2.0
PRODID:-//River Arts Alliance - ECPv6.15.20//NONSGML v1.0//EN
CALSCALE:GREGORIAN
METHOD:PUBLISH
X-WR-CALNAME:River Arts Alliance
X-ORIGINAL-URL:https://riverartsalliance.org
X-WR-CALDESC:Events for River Arts Alliance
REFRESH-INTERVAL;VALUE=DURATION:PT1H
X-Robots-Tag:noindex
X-PUBLISHED-TTL:PT1H
BEGIN:VTIMEZONE
TZID:America/Chicago
BEGIN:DAYLIGHT
TZOFFSETFROM:-0600
TZOFFSETTO:-0500
TZNAME:CDT
DTSTART:20220313T080000
END:DAYLIGHT
BEGIN:STANDARD
TZOFFSETFROM:-0500
TZOFFSETTO:-0600
TZNAME:CST
DTSTART:20221106T070000
END:STANDARD
BEGIN:DAYLIGHT
TZOFFSETFROM:-0600
TZOFFSETTO:-0500
TZNAME:CDT
DTSTART:20230312T080000
END:DAYLIGHT
BEGIN:STANDARD
TZOFFSETFROM:-0500
TZOFFSETTO:-0600
TZNAME:CST
DTSTART:20231105T070000
END:STANDARD
BEGIN:DAYLIGHT
TZOFFSETFROM:-0600
TZOFFSETTO:-0500
TZNAME:CDT
DTSTART:20240310T080000
END:DAYLIGHT
BEGIN:STANDARD
TZOFFSETFROM:-0500
TZOFFSETTO:-0600
TZNAME:CST
DTSTART:20241103T070000
END:STANDARD
END:VTIMEZONE
BEGIN:VEVENT
DTSTART;TZID=America/Chicago:20230125T183000
DTEND;TZID=America/Chicago:20230125T203000
DTSTAMP:20260423T024005
CREATED:20221213T214909Z
LAST-MODIFIED:20221213T214909Z
UID:10000167-1674671400-1674678600@riverartsalliance.org
SUMMARY:River Arts Alliance 2023 Annual Meeting
DESCRIPTION:Winona Arts Center | 228 E 5th St. \nSave the date — more information to come. At the Annual Meeting\, RAA members may vote to elect members of the Board of Directors\, and other annual business is conducted.
URL:https://riverartsalliance.org/event/river-arts-alliance-2023-annual-meeting/
LOCATION:Winona Arts Center\, 228 E 5th St.\, Winona\, MN\, 55987\, United States
END:VEVENT
END:VCALENDAR