BEGIN:VCALENDAR
VERSION:2.0
PRODID:-//River Arts Alliance - ECPv6.15.20//NONSGML v1.0//EN
CALSCALE:GREGORIAN
METHOD:PUBLISH
X-ORIGINAL-URL:https://riverartsalliance.org
X-WR-CALDESC:Events for River Arts Alliance
REFRESH-INTERVAL;VALUE=DURATION:PT1H
X-Robots-Tag:noindex
X-PUBLISHED-TTL:PT1H
BEGIN:VTIMEZONE
TZID:America/Chicago
BEGIN:DAYLIGHT
TZOFFSETFROM:-0600
TZOFFSETTO:-0500
TZNAME:CDT
DTSTART:20220313T080000
END:DAYLIGHT
BEGIN:STANDARD
TZOFFSETFROM:-0500
TZOFFSETTO:-0600
TZNAME:CST
DTSTART:20221106T070000
END:STANDARD
BEGIN:DAYLIGHT
TZOFFSETFROM:-0600
TZOFFSETTO:-0500
TZNAME:CDT
DTSTART:20230312T080000
END:DAYLIGHT
BEGIN:STANDARD
TZOFFSETFROM:-0500
TZOFFSETTO:-0600
TZNAME:CST
DTSTART:20231105T070000
END:STANDARD
BEGIN:DAYLIGHT
TZOFFSETFROM:-0600
TZOFFSETTO:-0500
TZNAME:CDT
DTSTART:20240310T080000
END:DAYLIGHT
BEGIN:STANDARD
TZOFFSETFROM:-0500
TZOFFSETTO:-0600
TZNAME:CST
DTSTART:20241103T070000
END:STANDARD
END:VTIMEZONE
BEGIN:VEVENT
DTSTART;TZID=America/Chicago:20230204T100000
DTEND;TZID=America/Chicago:20230204T140000
DTSTAMP:20260423T005503
CREATED:20230123T182119Z
LAST-MODIFIED:20230123T182119Z
UID:10000194-1675504800-1675519200@riverartsalliance.org
SUMMARY:Valentines Free Ink Day at Winona Arts Center
DESCRIPTION:Winona Arts Center | 228 E 5th St.\nwinonaarts.org \nThe Winona Arts Center is pleased to offer a Valentines Free Ink Day on February 4. You can drop in any time between 10 am and 2 pm. Come and learn how to make Valentine-themed monoprints on our press! You can create your own artwork using stencils and other materials while learning the monoprint process. Learn more.
URL:https://riverartsalliance.org/event/valentines-free-ink-day-at-winona-arts-center/
LOCATION:Winona Arts Center\, 228 E 5th St.\, Winona\, MN\, 55987\, United States
END:VEVENT
BEGIN:VEVENT
DTSTART;TZID=America/Chicago:20230204T190000
DTEND;TZID=America/Chicago:20230204T190000
DTSTAMP:20260423T005503
CREATED:20230123T175540Z
LAST-MODIFIED:20230123T175540Z
UID:10000188-1675537200-1675537200@riverartsalliance.org
SUMMARY:John Paulson Big Band Anniversary Concerts at WAC
DESCRIPTION:Winona Arts Center | 228 E 5th St.\nwinonaarts.org \nCome and celebrate the 10-year anniversary of the John Paulson Big Band with two concerts at the Winona Arts Center\, Saturday\, February 4th at 7:00 pm and Sunday\, February 5th at 3:00 pm. The concerts will celebrate 10 years of successful concerts\, recordings and residencies by the band. The band’s repertoire includes straight ahead blues\, Latin and swing; ballads with vocals; and a twisted tango — all composed and arranged by Dr. Paulson. This group includes the top jazz performers and educators in the region and over the past decade\, they have performed to enthusiastic audiences locally\, regionally and nationally. Tickets are available for $10 in advance or $15 at the door. Learn more.
URL:https://riverartsalliance.org/event/john-paulson-big-band-anniversary-concerts-at-wac/2023-02-04/
LOCATION:Winona Arts Center\, 228 E 5th St.\, Winona\, MN\, 55987\, United States
END:VEVENT
BEGIN:VEVENT
DTSTART;TZID=America/Chicago:20230204T190000
DTEND;TZID=America/Chicago:20230204T190000
DTSTAMP:20260423T005503
CREATED:20230203T214042Z
LAST-MODIFIED:20230203T214416Z
UID:10000199-1675537200-1675537200@riverartsalliance.org
SUMMARY:Beethoven Concert: Dr. Pamela Kelly\, Pianist at Old Main
DESCRIPTION:Old Main Cultural Center | 20869 College Ave. | Galesville\, WI\noldmain.org \nAs part of the Gale Star event series\, Old Main presents a Beethoven concert by Dr. Pamela Kelly\, pianist\, with commentary by Dr. Kelly. Tickets are $10 for adults\, $5 for college students\, and free for high school students and younger. \nLearn more about the Gale Star series here.
URL:https://riverartsalliance.org/event/beethoven-concert-dr-pamela-kelly-pianist/
LOCATION:Old Main Cultural Center\, 20869 S College Ave.\, Galesville\, WI\, 54630\, United States
END:VEVENT
END:VCALENDAR