BEGIN:VCALENDAR
VERSION:2.0
PRODID:-//River Arts Alliance - ECPv6.15.20//NONSGML v1.0//EN
CALSCALE:GREGORIAN
METHOD:PUBLISH
X-ORIGINAL-URL:https://riverartsalliance.org
X-WR-CALDESC:Events for River Arts Alliance
REFRESH-INTERVAL;VALUE=DURATION:PT1H
X-Robots-Tag:noindex
X-PUBLISHED-TTL:PT1H
BEGIN:VTIMEZONE
TZID:America/Chicago
BEGIN:DAYLIGHT
TZOFFSETFROM:-0600
TZOFFSETTO:-0500
TZNAME:CDT
DTSTART:20220313T080000
END:DAYLIGHT
BEGIN:STANDARD
TZOFFSETFROM:-0500
TZOFFSETTO:-0600
TZNAME:CST
DTSTART:20221106T070000
END:STANDARD
BEGIN:DAYLIGHT
TZOFFSETFROM:-0600
TZOFFSETTO:-0500
TZNAME:CDT
DTSTART:20230312T080000
END:DAYLIGHT
BEGIN:STANDARD
TZOFFSETFROM:-0500
TZOFFSETTO:-0600
TZNAME:CST
DTSTART:20231105T070000
END:STANDARD
BEGIN:DAYLIGHT
TZOFFSETFROM:-0600
TZOFFSETTO:-0500
TZNAME:CDT
DTSTART:20240310T080000
END:DAYLIGHT
BEGIN:STANDARD
TZOFFSETFROM:-0500
TZOFFSETTO:-0600
TZNAME:CST
DTSTART:20241103T070000
END:STANDARD
END:VTIMEZONE
BEGIN:VEVENT
DTSTART;TZID=America/Chicago:20230207T190000
DTEND;TZID=America/Chicago:20230207T190000
DTSTAMP:20260423T005504
CREATED:20230127T165722Z
LAST-MODIFIED:20230127T165722Z
UID:10000196-1675796400-1675796400@riverartsalliance.org
SUMMARY:Laureate Writers Series Presents Su Smallen Love
DESCRIPTION:Blue Heron Coffeehouse | 162 W 2nd St. \nOn February 7th\, Su Smallen Love will read from her poetry at the Blue Heron Coffeehouse as part of First Tuesday: The Laureate Writers Series. The reading will be followed by a short Q&A\, a book signing\, and an open mic. This event is free and open to the public. Su Love is the author of six collections of poetry\, some published as Su Smallen\, including Buddha\, Proof\, a Minnesota Book Award finalist and Weight of Light\, a Pushcart Press Editors’ Book Award nominee. Learn more. \n 
URL:https://riverartsalliance.org/event/laureate-writers-series-presents-su-smallen-love/
LOCATION:Blue Heron Coffeehouse\, 162 W 2nd St\, Winona\, MN\, 55987\, United States
END:VEVENT
BEGIN:VEVENT
DTSTART;TZID=America/Chicago:20230207T193000
DTEND;TZID=America/Chicago:20230207T210000
DTSTAMP:20260423T005504
CREATED:20230123T160418Z
LAST-MODIFIED:20230123T160418Z
UID:10000063-1675798200-1675803600@riverartsalliance.org
SUMMARY:WSU Faculty Recital: Eric Brisson\, Piano
DESCRIPTION:DuFresne Performing Arts Center – Recital Hall | Winona State University | 450 Johnson St. \nEric Brisson will present a piano recital featuring works by Franz Schubert: Sonata in B-flat major (D. 960) and Four Impromptus\, op.90. Free admission.
URL:https://riverartsalliance.org/event/wsu-faculty-recital-eric-brisson-piano/
LOCATION:WSU DuFresne Performing Arts Center Recital Hall\, 450 Johnson St.\, Winona\, MN\, 55987\, United States
END:VEVENT
END:VCALENDAR