BEGIN:VCALENDAR
VERSION:2.0
PRODID:-//River Arts Alliance - ECPv6.15.20//NONSGML v1.0//EN
CALSCALE:GREGORIAN
METHOD:PUBLISH
X-ORIGINAL-URL:https://riverartsalliance.org
X-WR-CALDESC:Events for River Arts Alliance
REFRESH-INTERVAL;VALUE=DURATION:PT1H
X-Robots-Tag:noindex
X-PUBLISHED-TTL:PT1H
BEGIN:VTIMEZONE
TZID:America/Chicago
BEGIN:DAYLIGHT
TZOFFSETFROM:-0600
TZOFFSETTO:-0500
TZNAME:CDT
DTSTART:20220313T080000
END:DAYLIGHT
BEGIN:STANDARD
TZOFFSETFROM:-0500
TZOFFSETTO:-0600
TZNAME:CST
DTSTART:20221106T070000
END:STANDARD
BEGIN:DAYLIGHT
TZOFFSETFROM:-0600
TZOFFSETTO:-0500
TZNAME:CDT
DTSTART:20230312T080000
END:DAYLIGHT
BEGIN:STANDARD
TZOFFSETFROM:-0500
TZOFFSETTO:-0600
TZNAME:CST
DTSTART:20231105T070000
END:STANDARD
BEGIN:DAYLIGHT
TZOFFSETFROM:-0600
TZOFFSETTO:-0500
TZNAME:CDT
DTSTART:20240310T080000
END:DAYLIGHT
BEGIN:STANDARD
TZOFFSETFROM:-0500
TZOFFSETTO:-0600
TZNAME:CST
DTSTART:20241103T070000
END:STANDARD
END:VTIMEZONE
BEGIN:VEVENT
DTSTART;TZID=America/Chicago:20230211T150000
DTEND;TZID=America/Chicago:20230211T150000
DTSTAMP:20260423T005502
CREATED:20230206T175101Z
LAST-MODIFIED:20230206T175101Z
UID:10000200-1676127600-1676127600@riverartsalliance.org
SUMMARY:Valentine Vocals and Piano Anniversary Concert: Ten Years of "Gale Star"
DESCRIPTION:Old Main Cultural Center | 20869 College Ave | Galesville\, WI\noldmain.org \nOld Main Cultural Center presents an afternoon of vocal and piano music\, featuring Cynda Solberg\, Hunter Evenson\, James & Zach Holthaus\, Wina Mortenson\, and Mary Graziano. This event celebrates the ten-year anniversary of the “Gale Star” events series at Old Main. Tickets are $10 for adults\, $5 for college students\, and free for high school students and younger. Learn more about upcoming Gale Star events here.
URL:https://riverartsalliance.org/event/valentine-vocals-and-piano-anniversary-concert-ten-years-of-gale-star/
LOCATION:Old Main Cultural Center\, 20869 S College Ave.\, Galesville\, WI\, 54630\, United States
END:VEVENT
END:VCALENDAR