BEGIN:VCALENDAR
VERSION:2.0
PRODID:-//River Arts Alliance - ECPv6.15.20//NONSGML v1.0//EN
CALSCALE:GREGORIAN
METHOD:PUBLISH
X-WR-CALNAME:River Arts Alliance
X-ORIGINAL-URL:https://riverartsalliance.org
X-WR-CALDESC:Events for River Arts Alliance
REFRESH-INTERVAL;VALUE=DURATION:PT1H
X-Robots-Tag:noindex
X-PUBLISHED-TTL:PT1H
BEGIN:VTIMEZONE
TZID:America/Chicago
BEGIN:DAYLIGHT
TZOFFSETFROM:-0600
TZOFFSETTO:-0500
TZNAME:CDT
DTSTART:20220313T080000
END:DAYLIGHT
BEGIN:STANDARD
TZOFFSETFROM:-0500
TZOFFSETTO:-0600
TZNAME:CST
DTSTART:20221106T070000
END:STANDARD
BEGIN:DAYLIGHT
TZOFFSETFROM:-0600
TZOFFSETTO:-0500
TZNAME:CDT
DTSTART:20230312T080000
END:DAYLIGHT
BEGIN:STANDARD
TZOFFSETFROM:-0500
TZOFFSETTO:-0600
TZNAME:CST
DTSTART:20231105T070000
END:STANDARD
BEGIN:DAYLIGHT
TZOFFSETFROM:-0600
TZOFFSETTO:-0500
TZNAME:CDT
DTSTART:20240310T080000
END:DAYLIGHT
BEGIN:STANDARD
TZOFFSETFROM:-0500
TZOFFSETTO:-0600
TZNAME:CST
DTSTART:20241103T070000
END:STANDARD
END:VTIMEZONE
BEGIN:VEVENT
DTSTART;TZID=America/Chicago:20230225T140000
DTEND;TZID=America/Chicago:20230225T140000
DTSTAMP:20260423T005413
CREATED:20230206T182046Z
LAST-MODIFIED:20230206T182046Z
UID:10000203-1677333600-1677333600@riverartsalliance.org
SUMMARY:2 Sugars\, Room for Cream
DESCRIPTION:Winona Middle School | 1570 Homer Rd.\ntheatredumiss.org \nTheatre du Mississippi is excited to announce we will be producing 2 Sugars\, Room for Cream this February. This show is written by two women from the Twin Cities\, Shanan Custer and Carolyn Pool. The show is a compilation of vignettes (short scenes) with multiple characters. The premise is relationships\, and how coffee can bring us all together. Pre-Sale Tickets are available on Eventbrite with a credit card\, or at Chapter 2 Bookstore with cash or check. Tickets are also available at the door. Learn more.
URL:https://riverartsalliance.org/event/2-sugars-room-for-cream/2023-02-25/1/
LOCATION:Winona Middle School\, 1570 Homer Rd.\, Winona\, MN\, 55987\, United States
END:VEVENT
BEGIN:VEVENT
DTSTART;TZID=America/Chicago:20230225T140000
DTEND;TZID=America/Chicago:20230225T140000
DTSTAMP:20260423T005413
CREATED:20230219T041237Z
LAST-MODIFIED:20230219T041504Z
UID:10000225-1677333600-1677333600@riverartsalliance.org
SUMMARY:The Rainbow Fish Community Performances
DESCRIPTION:Bluffview Montessori School | 1321 Gilmore Ave.\nlinktr.ee/sugarloaftheatre \nThe local community theatre\, Sugarloaf Theatre\, is currently in rehearsals for its winter production of The Rainbow Fish. The show has a small cast of volunteer community members of many different ages. This amazing cast will have public performances on February 25 at 2 p.m. and 6 p.m. and February 26 at 2 p.m. at Bluffview Montessori School. The Rainbow Fish is a play adapted from a well-known children’s book that tells a wonderful story about sharing and friendship. The play tells the same story and even adds in some fun new aspects like audience participation and fun new characters. Learn more.
URL:https://riverartsalliance.org/event/the-rainbow-fish-community-performances/
LOCATION:Bluffview Montessori School\, 1321 Gilmore Ave\, Winona\, MN\, 55987\, United States
END:VEVENT
BEGIN:VEVENT
DTSTART;TZID=America/Chicago:20230225T180000
DTEND;TZID=America/Chicago:20230225T180000
DTSTAMP:20260423T005413
CREATED:20230219T041804Z
LAST-MODIFIED:20230219T041804Z
UID:10000226-1677348000-1677348000@riverartsalliance.org
SUMMARY:The Rainbow Fish Community Performances
DESCRIPTION:Bluffview Montessori School | 1321 Gilmore Ave.\nlinktr.ee/sugarloaftheatre \nThe local community theatre\, Sugarloaf Theatre\, is currently in rehearsals for its winter production of The Rainbow Fish. The show has a small cast of volunteer community members of many different ages. This amazing cast will have public performances on February 25 at 2 p.m. and 6 p.m. and February 26 at 2 p.m. at Bluffview Montessori School. The Rainbow Fish is a play adapted from a well-known children’s book that tells a wonderful story about sharing and friendship. The play tells the same story and even adds in some fun new aspects like audience participation and fun new characters. Learn more.
URL:https://riverartsalliance.org/event/the-rainbow-fish-community-performances-2/
LOCATION:Bluffview Montessori School\, 1321 Gilmore Ave\, Winona\, MN\, 55987\, United States
END:VEVENT
BEGIN:VEVENT
DTSTART;TZID=America/Chicago:20230225T190000
DTEND;TZID=America/Chicago:20230225T190000
DTSTAMP:20260423T005413
CREATED:20230206T182046Z
LAST-MODIFIED:20230206T182046Z
UID:10000204-1677351600-1677351600@riverartsalliance.org
SUMMARY:2 Sugars\, Room for Cream
DESCRIPTION:Winona Middle School | 1570 Homer Rd.\ntheatredumiss.org \nTheatre du Mississippi is excited to announce we will be producing 2 Sugars\, Room for Cream this February. This show is written by two women from the Twin Cities\, Shanan Custer and Carolyn Pool. The show is a compilation of vignettes (short scenes) with multiple characters. The premise is relationships\, and how coffee can bring us all together. Pre-Sale Tickets are available on Eventbrite with a credit card\, or at Chapter 2 Bookstore with cash or check. Tickets are also available at the door. Learn more.
URL:https://riverartsalliance.org/event/2-sugars-room-for-cream/2023-02-25/2/
LOCATION:Winona Middle School\, 1570 Homer Rd.\, Winona\, MN\, 55987\, United States
END:VEVENT
END:VCALENDAR