BEGIN:VCALENDAR
VERSION:2.0
PRODID:-//River Arts Alliance - ECPv6.15.20//NONSGML v1.0//EN
CALSCALE:GREGORIAN
METHOD:PUBLISH
X-WR-CALNAME:River Arts Alliance
X-ORIGINAL-URL:https://riverartsalliance.org
X-WR-CALDESC:Events for River Arts Alliance
REFRESH-INTERVAL;VALUE=DURATION:PT1H
X-Robots-Tag:noindex
X-PUBLISHED-TTL:PT1H
BEGIN:VTIMEZONE
TZID:America/Chicago
BEGIN:DAYLIGHT
TZOFFSETFROM:-0600
TZOFFSETTO:-0500
TZNAME:CDT
DTSTART:20220313T080000
END:DAYLIGHT
BEGIN:STANDARD
TZOFFSETFROM:-0500
TZOFFSETTO:-0600
TZNAME:CST
DTSTART:20221106T070000
END:STANDARD
BEGIN:DAYLIGHT
TZOFFSETFROM:-0600
TZOFFSETTO:-0500
TZNAME:CDT
DTSTART:20230312T080000
END:DAYLIGHT
BEGIN:STANDARD
TZOFFSETFROM:-0500
TZOFFSETTO:-0600
TZNAME:CST
DTSTART:20231105T070000
END:STANDARD
BEGIN:DAYLIGHT
TZOFFSETFROM:-0600
TZOFFSETTO:-0500
TZNAME:CDT
DTSTART:20240310T080000
END:DAYLIGHT
BEGIN:STANDARD
TZOFFSETFROM:-0500
TZOFFSETTO:-0600
TZNAME:CST
DTSTART:20241103T070000
END:STANDARD
END:VTIMEZONE
BEGIN:VEVENT
DTSTART;TZID=America/Chicago:20230226T140000
DTEND;TZID=America/Chicago:20230226T140000
DTSTAMP:20260422T230708
CREATED:20230219T042221Z
LAST-MODIFIED:20230219T042221Z
UID:10000227-1677420000-1677420000@riverartsalliance.org
SUMMARY:The Rainbow Fish Community Performances
DESCRIPTION:Bluffview Montessori School | 1321 Gilmore Ave.\nlinktr.ee/sugarloaftheatre \nThe local community theatre\, Sugarloaf Theatre\, is currently in rehearsals for its winter production of The Rainbow Fish. The show has a small cast of volunteer community members of many different ages. This amazing cast will have public performances on February 25 at 2 p.m. and 6 p.m. and February 26 at 2 p.m. at Bluffview Montessori School. The Rainbow Fish is a play adapted from a well-known children’s book that tells a wonderful story about sharing and friendship. The play tells the same story and even adds in some fun new aspects like audience participation and fun new characters. Learn more.
URL:https://riverartsalliance.org/event/the-rainbow-fish-community-performances-3/
LOCATION:Bluffview Montessori School\, 1321 Gilmore Ave\, Winona\, MN\, 55987\, United States
END:VEVENT
BEGIN:VEVENT
DTSTART;TZID=America/Chicago:20230226T150000
DTEND;TZID=America/Chicago:20230226T150000
DTSTAMP:20260422T230708
CREATED:20230221T003155Z
LAST-MODIFIED:20230221T003220Z
UID:10000228-1677423600-1677423600@riverartsalliance.org
SUMMARY:Winona Drum Circle at Old Main
DESCRIPTION:Old Main Cultural Center | 20869 College Ave. | Galesville\, WI\noldmain.org \nAs part of its Gale Star event series\, Old Main Cultural Center presents a performance by the drum circle from Winona led by Katwa Lance Ngari. Members of the circle will also read poems by Samuel Calvin Gbetnkom of Cameroon\, from his book titled Out of the Resilient Shadows. Admission is $10 for adults\, $5 for college students\, and free to people in high school and younger. Learn more about this performance here and about upcoming events in the series here.
URL:https://riverartsalliance.org/event/winona-drum-circle-at-old-main/
LOCATION:Old Main Cultural Center\, 20869 S College Ave.\, Galesville\, WI\, 54630\, United States
END:VEVENT
BEGIN:VEVENT
DTSTART;TZID=America/Chicago:20230226T160000
DTEND;TZID=America/Chicago:20230226T170000
DTSTAMP:20260422T230708
CREATED:20230221T233549Z
LAST-MODIFIED:20230221T233549Z
UID:10000229-1677427200-1677430800@riverartsalliance.org
SUMMARY:WAC Annual Membership Meeting
DESCRIPTION:Winona Arts Center | 228 E 5th St.\nwinonaarts.org \nThe Winona Arts Center will be holding its annual membership meeting on February 26 from 4 pm to 5 pm in the gallery. All members are invited to attend. Learn more.
URL:https://riverartsalliance.org/event/wac-annual-membership-meeting/
LOCATION:Winona Arts Center\, 228 E 5th St.\, Winona\, MN\, 55987\, United States
END:VEVENT
END:VCALENDAR