BEGIN:VCALENDAR
VERSION:2.0
PRODID:-//River Arts Alliance - ECPv6.15.20//NONSGML v1.0//EN
CALSCALE:GREGORIAN
METHOD:PUBLISH
X-WR-CALNAME:River Arts Alliance
X-ORIGINAL-URL:https://riverartsalliance.org
X-WR-CALDESC:Events for River Arts Alliance
REFRESH-INTERVAL;VALUE=DURATION:PT1H
X-Robots-Tag:noindex
X-PUBLISHED-TTL:PT1H
BEGIN:VTIMEZONE
TZID:America/Chicago
BEGIN:DAYLIGHT
TZOFFSETFROM:-0600
TZOFFSETTO:-0500
TZNAME:CDT
DTSTART:20220313T080000
END:DAYLIGHT
BEGIN:STANDARD
TZOFFSETFROM:-0500
TZOFFSETTO:-0600
TZNAME:CST
DTSTART:20221106T070000
END:STANDARD
BEGIN:DAYLIGHT
TZOFFSETFROM:-0600
TZOFFSETTO:-0500
TZNAME:CDT
DTSTART:20230312T080000
END:DAYLIGHT
BEGIN:STANDARD
TZOFFSETFROM:-0500
TZOFFSETTO:-0600
TZNAME:CST
DTSTART:20231105T070000
END:STANDARD
BEGIN:DAYLIGHT
TZOFFSETFROM:-0600
TZOFFSETTO:-0500
TZNAME:CDT
DTSTART:20240310T080000
END:DAYLIGHT
BEGIN:STANDARD
TZOFFSETFROM:-0500
TZOFFSETTO:-0600
TZNAME:CST
DTSTART:20241103T070000
END:STANDARD
END:VTIMEZONE
BEGIN:VEVENT
DTSTART;TZID=America/Chicago:20230303T170000
DTEND;TZID=America/Chicago:20230303T190000
DTSTAMP:20260422T230709
CREATED:20230303T185044Z
LAST-MODIFIED:20230303T205444Z
UID:10000079-1677862800-1677870000@riverartsalliance.org
SUMMARY:Opening Reception - The Art of Hannah C. Heyer at the Blue Heron
DESCRIPTION:Blue Heron Coffeehouse | 162 W 2nd St.\nblueheroncoffeehouse.com \nAn exhibition of paintings by Hannah C. Heyer will run from March 3rd through April 17th\, 2023\, at the Blue Heron Coffeehouse\, 162 W 2nd Street\, Winona. An opening reception will be held on Friday\, March 3rd\, from 5-7 pm. The coffeehouse is open from 7 am-2 pm Wednesdays-Fridays and 8 am-2 pm Saturdays-Sundays.
URL:https://riverartsalliance.org/event/opening-reception-the-art-of-hannah-c-heyer-at-the-blue-heron/
LOCATION:Blue Heron Coffeehouse\, 162 W 2nd St\, Winona\, MN\, 55987\, United States
END:VEVENT
END:VCALENDAR