BEGIN:VCALENDAR
VERSION:2.0
PRODID:-//River Arts Alliance - ECPv6.15.20//NONSGML v1.0//EN
CALSCALE:GREGORIAN
METHOD:PUBLISH
X-WR-CALNAME:River Arts Alliance
X-ORIGINAL-URL:https://riverartsalliance.org
X-WR-CALDESC:Events for River Arts Alliance
REFRESH-INTERVAL;VALUE=DURATION:PT1H
X-Robots-Tag:noindex
X-PUBLISHED-TTL:PT1H
BEGIN:VTIMEZONE
TZID:America/Chicago
BEGIN:DAYLIGHT
TZOFFSETFROM:-0600
TZOFFSETTO:-0500
TZNAME:CDT
DTSTART:20220313T080000
END:DAYLIGHT
BEGIN:STANDARD
TZOFFSETFROM:-0500
TZOFFSETTO:-0600
TZNAME:CST
DTSTART:20221106T070000
END:STANDARD
BEGIN:DAYLIGHT
TZOFFSETFROM:-0600
TZOFFSETTO:-0500
TZNAME:CDT
DTSTART:20230312T080000
END:DAYLIGHT
BEGIN:STANDARD
TZOFFSETFROM:-0500
TZOFFSETTO:-0600
TZNAME:CST
DTSTART:20231105T070000
END:STANDARD
BEGIN:DAYLIGHT
TZOFFSETFROM:-0600
TZOFFSETTO:-0500
TZNAME:CDT
DTSTART:20240310T080000
END:DAYLIGHT
BEGIN:STANDARD
TZOFFSETFROM:-0500
TZOFFSETTO:-0600
TZNAME:CST
DTSTART:20241103T070000
END:STANDARD
END:VTIMEZONE
BEGIN:VEVENT
DTSTART;TZID=America/Chicago:20230307T190000
DTEND;TZID=America/Chicago:20230307T190000
DTSTAMP:20260422T230644
CREATED:20230222T225300Z
LAST-MODIFIED:20230222T225300Z
UID:10000231-1678215600-1678215600@riverartsalliance.org
SUMMARY:Laureate Writers Series Presents Delta Eddy
DESCRIPTION:Blue Heron Coffeehouse | 162 W 2nd St. \nOn March 7th\, Delta Eddy will read from her poetry at the Blue Heron Coffeehouse as part of First Tuesday: The Laureate Writers Series. She is the author of Sparks\, a collection of poetry published by Tom Driscoll of Shipwreckt Books\, a publishing company that recently moved to Winona. Eddy is Professor Emerita at Winona State University\, where she taught twentieth century literature\, creative writing\, and classics for many years. She published most of her work as Gary Eddy\, transitioning to her natural state in 2017. The reading will be followed by a short Q&A\, a book signing\, and an open mic. This event is sponsored by the Maria W. Faust Sonnet Contest in partnership with the Blue Heron Coffeehouse. Learn more.
URL:https://riverartsalliance.org/event/laureate-writers-series-presents-delta-eddy/
LOCATION:Blue Heron Coffeehouse\, 162 W 2nd St\, Winona\, MN\, 55987\, United States
END:VEVENT
END:VCALENDAR