BEGIN:VCALENDAR
VERSION:2.0
PRODID:-//River Arts Alliance - ECPv6.15.20//NONSGML v1.0//EN
CALSCALE:GREGORIAN
METHOD:PUBLISH
X-WR-CALNAME:River Arts Alliance
X-ORIGINAL-URL:https://riverartsalliance.org
X-WR-CALDESC:Events for River Arts Alliance
REFRESH-INTERVAL;VALUE=DURATION:PT1H
X-Robots-Tag:noindex
X-PUBLISHED-TTL:PT1H
BEGIN:VTIMEZONE
TZID:America/Chicago
BEGIN:DAYLIGHT
TZOFFSETFROM:-0600
TZOFFSETTO:-0500
TZNAME:CDT
DTSTART:20220313T080000
END:DAYLIGHT
BEGIN:STANDARD
TZOFFSETFROM:-0500
TZOFFSETTO:-0600
TZNAME:CST
DTSTART:20221106T070000
END:STANDARD
BEGIN:DAYLIGHT
TZOFFSETFROM:-0600
TZOFFSETTO:-0500
TZNAME:CDT
DTSTART:20230312T080000
END:DAYLIGHT
BEGIN:STANDARD
TZOFFSETFROM:-0500
TZOFFSETTO:-0600
TZNAME:CST
DTSTART:20231105T070000
END:STANDARD
BEGIN:DAYLIGHT
TZOFFSETFROM:-0600
TZOFFSETTO:-0500
TZNAME:CDT
DTSTART:20240310T080000
END:DAYLIGHT
BEGIN:STANDARD
TZOFFSETFROM:-0500
TZOFFSETTO:-0600
TZNAME:CST
DTSTART:20241103T070000
END:STANDARD
END:VTIMEZONE
BEGIN:VEVENT
DTSTART;TZID=America/Chicago:20230311T130000
DTEND;TZID=America/Chicago:20230311T150000
DTSTAMP:20260422T230709
CREATED:20230303T213745Z
LAST-MODIFIED:20230303T213745Z
UID:10000084-1678539600-1678546800@riverartsalliance.org
SUMMARY:Crock-Tile Pottery Class with Richard Spiller at WAC
DESCRIPTION:Winona Arts Center | 228 E 5th St.\nwinonaarts.org \nJoin renowned potter Richard Spiller to design a crock and tile on Saturday\, March 11 at the Winona Arts Center. Students will be given a bisque-fired pint crock and a 4-inch tile and will apply colored slips on the crock with clear glaze. The crocks and tile will be fired at Spiller’s studio and returned at a later date. Cost is $30 for members of WAC and $35 for non-members. To register for the class\, please contact Jen Benson at jsbenson50@gmail.com. Learn more.
URL:https://riverartsalliance.org/event/crock-tile-pottery-class-with-richard-spiller-at-wac/
LOCATION:Winona Arts Center\, 228 E 5th St.\, Winona\, MN\, 55987\, United States
END:VEVENT
BEGIN:VEVENT
DTSTART;TZID=America/Chicago:20230311T190000
DTEND;TZID=America/Chicago:20230311T190000
DTSTAMP:20260422T230709
CREATED:20230306T190007Z
LAST-MODIFIED:20230306T190007Z
UID:10000088-1678561200-1678561200@riverartsalliance.org
SUMMARY:Flute and Piano Concert: Iva Ugrčić & Satoko Hayami
DESCRIPTION:Old Main Cultural Center | 20869 College Ave. | Galesville\, WI\noldmain.org \nDr. Iva Ugrčić and Dr. Satoko Hayami will return for their fourth flute and piano concert at Old Main in Galesville Saturday\, March 11 at 7:00 p.m. Described as “luminaries\,” “world-class\,” and “adventurous\,” the flute-piano duo have presented uniquely diverse and virtuosic programs through dynamic performances and storytelling since 2017. Admission is $10.00 for adults\, $5.00 for college students\, and FREE to people in high school and younger. Learn more.
URL:https://riverartsalliance.org/event/flute-and-piano-concert-iva-ugrcic-satoko-hayami/
LOCATION:Old Main Cultural Center\, 20869 S College Ave.\, Galesville\, WI\, 54630\, United States
END:VEVENT
END:VCALENDAR