BEGIN:VCALENDAR
VERSION:2.0
PRODID:-//River Arts Alliance - ECPv6.15.20//NONSGML v1.0//EN
CALSCALE:GREGORIAN
METHOD:PUBLISH
X-WR-CALNAME:River Arts Alliance
X-ORIGINAL-URL:https://riverartsalliance.org
X-WR-CALDESC:Events for River Arts Alliance
REFRESH-INTERVAL;VALUE=DURATION:PT1H
X-Robots-Tag:noindex
X-PUBLISHED-TTL:PT1H
BEGIN:VTIMEZONE
TZID:America/Chicago
BEGIN:DAYLIGHT
TZOFFSETFROM:-0600
TZOFFSETTO:-0500
TZNAME:CDT
DTSTART:20220313T080000
END:DAYLIGHT
BEGIN:STANDARD
TZOFFSETFROM:-0500
TZOFFSETTO:-0600
TZNAME:CST
DTSTART:20221106T070000
END:STANDARD
BEGIN:DAYLIGHT
TZOFFSETFROM:-0600
TZOFFSETTO:-0500
TZNAME:CDT
DTSTART:20230312T080000
END:DAYLIGHT
BEGIN:STANDARD
TZOFFSETFROM:-0500
TZOFFSETTO:-0600
TZNAME:CST
DTSTART:20231105T070000
END:STANDARD
BEGIN:DAYLIGHT
TZOFFSETFROM:-0600
TZOFFSETTO:-0500
TZNAME:CDT
DTSTART:20240310T080000
END:DAYLIGHT
BEGIN:STANDARD
TZOFFSETFROM:-0500
TZOFFSETTO:-0600
TZNAME:CST
DTSTART:20241103T070000
END:STANDARD
END:VTIMEZONE
BEGIN:VEVENT
DTSTART;TZID=America/Chicago:20230317T150000
DTEND;TZID=America/Chicago:20230317T180000
DTSTAMP:20260422T230643
CREATED:20230306T194518Z
LAST-MODIFIED:20230306T194518Z
UID:10000090-1679065200-1679076000@riverartsalliance.org
SUMMARY:Patina the Band at Elmaro Vineyard on St Patrick’s Day
DESCRIPTION:Elmaro Vineyard | N14756 Delaney Rd. | Trempealeau\, WI\npatinatheband.com \nPatina will perform its traditional Irish music at Elmaro Vineyard on St Patrick’s Day\, Friday\, March 17th\, from 3:00 to 6:00 pm. Learn more here.
URL:https://riverartsalliance.org/event/patina-the-band-at-elmaro-vineyard-on-st-patricks-day/
LOCATION:Elmaro Vineyard\, N14756 Delaney Rd.\, Trempealeau\, WI\, 54661\, United States
END:VEVENT
END:VCALENDAR