BEGIN:VCALENDAR
VERSION:2.0
PRODID:-//River Arts Alliance - ECPv6.15.20//NONSGML v1.0//EN
CALSCALE:GREGORIAN
METHOD:PUBLISH
X-WR-CALNAME:River Arts Alliance
X-ORIGINAL-URL:https://riverartsalliance.org
X-WR-CALDESC:Events for River Arts Alliance
REFRESH-INTERVAL;VALUE=DURATION:PT1H
X-Robots-Tag:noindex
X-PUBLISHED-TTL:PT1H
BEGIN:VTIMEZONE
TZID:America/Chicago
BEGIN:DAYLIGHT
TZOFFSETFROM:-0600
TZOFFSETTO:-0500
TZNAME:CDT
DTSTART:20220313T080000
END:DAYLIGHT
BEGIN:STANDARD
TZOFFSETFROM:-0500
TZOFFSETTO:-0600
TZNAME:CST
DTSTART:20221106T070000
END:STANDARD
BEGIN:DAYLIGHT
TZOFFSETFROM:-0600
TZOFFSETTO:-0500
TZNAME:CDT
DTSTART:20230312T080000
END:DAYLIGHT
BEGIN:STANDARD
TZOFFSETFROM:-0500
TZOFFSETTO:-0600
TZNAME:CST
DTSTART:20231105T070000
END:STANDARD
BEGIN:DAYLIGHT
TZOFFSETFROM:-0600
TZOFFSETTO:-0500
TZNAME:CDT
DTSTART:20240310T080000
END:DAYLIGHT
BEGIN:STANDARD
TZOFFSETFROM:-0500
TZOFFSETTO:-0600
TZNAME:CST
DTSTART:20241103T070000
END:STANDARD
END:VTIMEZONE
BEGIN:VEVENT
DTSTART;TZID=America/Chicago:20230319T143000
DTEND;TZID=America/Chicago:20230319T173000
DTSTAMP:20260422T230642
CREATED:20230309T201311Z
LAST-MODIFIED:20230309T201311Z
UID:10000096-1679236200-1679247000@riverartsalliance.org
SUMMARY:Jam for the Land is March 19th
DESCRIPTION:Island City Brewing Company | 65 E Front St.\nH3OJazz.com \nH3O Jazz Trio and Island City Brewing Company will dedicate this month’s Jazz Jam to the Land Stewardship Project. Jam for the Land will take place in the taproom at Island City Brewing Company on Sunday\, March 19 from 2:30 – 5:30 p.m. All donations will be matched by the brewery and H3O. \nThe Land Stewardship Project’s mission is to foster an ethic of stewardship for farmland\, to promote sustainable agriculture\, and to develop healthy communities. To date\, H3O Jazz Trio and Island City Brewing have helped support local nonprofits with over $22\,500 in total donations through the generosity of Jazz Jam patrons! Learn more.
URL:https://riverartsalliance.org/event/jam-for-the-land-is-march-19th/
LOCATION:Island City Brewing Company\, 65 E Front St\, Winona\, MN\, 55987\, United States
END:VEVENT
END:VCALENDAR