BEGIN:VCALENDAR
VERSION:2.0
PRODID:-//River Arts Alliance - ECPv6.15.20//NONSGML v1.0//EN
CALSCALE:GREGORIAN
METHOD:PUBLISH
X-ORIGINAL-URL:https://riverartsalliance.org
X-WR-CALDESC:Events for River Arts Alliance
REFRESH-INTERVAL;VALUE=DURATION:PT1H
X-Robots-Tag:noindex
X-PUBLISHED-TTL:PT1H
BEGIN:VTIMEZONE
TZID:America/Chicago
BEGIN:DAYLIGHT
TZOFFSETFROM:-0600
TZOFFSETTO:-0500
TZNAME:CDT
DTSTART:20220313T080000
END:DAYLIGHT
BEGIN:STANDARD
TZOFFSETFROM:-0500
TZOFFSETTO:-0600
TZNAME:CST
DTSTART:20221106T070000
END:STANDARD
BEGIN:DAYLIGHT
TZOFFSETFROM:-0600
TZOFFSETTO:-0500
TZNAME:CDT
DTSTART:20230312T080000
END:DAYLIGHT
BEGIN:STANDARD
TZOFFSETFROM:-0500
TZOFFSETTO:-0600
TZNAME:CST
DTSTART:20231105T070000
END:STANDARD
BEGIN:DAYLIGHT
TZOFFSETFROM:-0600
TZOFFSETTO:-0500
TZNAME:CDT
DTSTART:20240310T080000
END:DAYLIGHT
BEGIN:STANDARD
TZOFFSETFROM:-0500
TZOFFSETTO:-0600
TZNAME:CST
DTSTART:20241103T070000
END:STANDARD
END:VTIMEZONE
BEGIN:VEVENT
DTSTART;TZID=America/Chicago:20230325T130000
DTEND;TZID=America/Chicago:20230325T150000
DTSTAMP:20260422T230700
CREATED:20230316T173956Z
LAST-MODIFIED:20230316T173956Z
UID:10000255-1679749200-1679756400@riverartsalliance.org
SUMMARY:Sgraffito Tile Class with Richard Spiller at WAC
DESCRIPTION:Winona Arts Center | 228 E 5th St.\nwinonaarts.org \nRichard Spiller\, a local potter from Wisconsin\, will present a Sgraffito tile workshop on March 25 at the Winona Arts Center. Sgraffito (in Italian meaning “to scratch”) is a technique produced by applying a drawing to a hard red clay pottery piece and then scratching off parts of the layer to create contrasting images and patterns to reveal the clay color underneath. Cost is $30 for members of WAC and $35 for non-members. Learn more.
URL:https://riverartsalliance.org/event/sgraffito-tile-class-with-richard-spiller-at-wac/
LOCATION:Winona Arts Center\, 228 E 5th St.\, Winona\, MN\, 55987\, United States
END:VEVENT
END:VCALENDAR