BEGIN:VCALENDAR
VERSION:2.0
PRODID:-//River Arts Alliance - ECPv6.15.20//NONSGML v1.0//EN
CALSCALE:GREGORIAN
METHOD:PUBLISH
X-WR-CALNAME:River Arts Alliance
X-ORIGINAL-URL:https://riverartsalliance.org
X-WR-CALDESC:Events for River Arts Alliance
REFRESH-INTERVAL;VALUE=DURATION:PT1H
X-Robots-Tag:noindex
X-PUBLISHED-TTL:PT1H
BEGIN:VTIMEZONE
TZID:America/Chicago
BEGIN:DAYLIGHT
TZOFFSETFROM:-0600
TZOFFSETTO:-0500
TZNAME:CDT
DTSTART:20220313T080000
END:DAYLIGHT
BEGIN:STANDARD
TZOFFSETFROM:-0500
TZOFFSETTO:-0600
TZNAME:CST
DTSTART:20221106T070000
END:STANDARD
BEGIN:DAYLIGHT
TZOFFSETFROM:-0600
TZOFFSETTO:-0500
TZNAME:CDT
DTSTART:20230312T080000
END:DAYLIGHT
BEGIN:STANDARD
TZOFFSETFROM:-0500
TZOFFSETTO:-0600
TZNAME:CST
DTSTART:20231105T070000
END:STANDARD
BEGIN:DAYLIGHT
TZOFFSETFROM:-0600
TZOFFSETTO:-0500
TZNAME:CDT
DTSTART:20240310T080000
END:DAYLIGHT
BEGIN:STANDARD
TZOFFSETFROM:-0500
TZOFFSETTO:-0600
TZNAME:CST
DTSTART:20241103T070000
END:STANDARD
END:VTIMEZONE
BEGIN:VEVENT
DTSTART;TZID=America/Chicago:20230404T190000
DTEND;TZID=America/Chicago:20230404T190000
DTSTAMP:20260422T211600
CREATED:20230328T162105Z
LAST-MODIFIED:20230328T162105Z
UID:10000270-1680634800-1680634800@riverartsalliance.org
SUMMARY:Laureate Writers Series Presents Robert Love
DESCRIPTION:Blue Heron Coffeehouse | 162 W 2nd St. \nOn Tuesday\, April 4th at 7pm\, Robert Love\, Montana poet\, essayist\, logger\, and conservationist will read selections from and lead a conversation about his first book\, Pathfinder. \nAfter flying under the literary radar for the past 50 years\, Love now shares poems\, essays\, and tales that present a crystal-clear tableau of a life well-lived in the woods of northern Montana. The presentation will be followed by a book signing and an open mic. This First Tuesday Laureate Writers Series event is sponsored by the Maria W. Faust Sonnet Contest in partnership with the Blue Heron Coffeehouse\, and is free and open to the public. Learn more.
URL:https://riverartsalliance.org/event/laureate-writers-series-presents-robert-love/
LOCATION:Blue Heron Coffeehouse\, 162 W 2nd St\, Winona\, MN\, 55987\, United States
END:VEVENT
END:VCALENDAR