BEGIN:VCALENDAR
VERSION:2.0
PRODID:-//River Arts Alliance - ECPv6.15.20//NONSGML v1.0//EN
CALSCALE:GREGORIAN
METHOD:PUBLISH
X-ORIGINAL-URL:https://riverartsalliance.org
X-WR-CALDESC:Events for River Arts Alliance
REFRESH-INTERVAL;VALUE=DURATION:PT1H
X-Robots-Tag:noindex
X-PUBLISHED-TTL:PT1H
BEGIN:VTIMEZONE
TZID:America/Chicago
BEGIN:DAYLIGHT
TZOFFSETFROM:-0600
TZOFFSETTO:-0500
TZNAME:CDT
DTSTART:20220313T080000
END:DAYLIGHT
BEGIN:STANDARD
TZOFFSETFROM:-0500
TZOFFSETTO:-0600
TZNAME:CST
DTSTART:20221106T070000
END:STANDARD
BEGIN:DAYLIGHT
TZOFFSETFROM:-0600
TZOFFSETTO:-0500
TZNAME:CDT
DTSTART:20230312T080000
END:DAYLIGHT
BEGIN:STANDARD
TZOFFSETFROM:-0500
TZOFFSETTO:-0600
TZNAME:CST
DTSTART:20231105T070000
END:STANDARD
BEGIN:DAYLIGHT
TZOFFSETFROM:-0600
TZOFFSETTO:-0500
TZNAME:CDT
DTSTART:20240310T080000
END:DAYLIGHT
BEGIN:STANDARD
TZOFFSETFROM:-0500
TZOFFSETTO:-0600
TZNAME:CST
DTSTART:20241103T070000
END:STANDARD
END:VTIMEZONE
BEGIN:VEVENT
DTSTART;TZID=America/Chicago:20230414T120000
DTEND;TZID=America/Chicago:20230414T130000
DTSTAMP:20260422T211709
CREATED:20230412T024107Z
LAST-MODIFIED:20230412T024402Z
UID:10000109-1681473600-1681477200@riverartsalliance.org
SUMMARY:Poet Athena Kildegaard at MMAM
DESCRIPTION:Minnesota Marine Art Museum | 800 Riverview Dr.\nminnesotamarineart.org \nOn April 14th\, from noon to 1 PM\, the poet Athena Kildegaard will visit Winona’s Minnesota Marine Art Museum (MMAM) to read from her work and discuss how her latest book\, Prairie Midden\, engages with the history and ecology of the Minnesota prairie. Kildegaard’s presentation will enter into dialogue with the MMAM’s current exhibition of works by artist Ian Hanesworth\, Fragments of this Living Earth\, which spans disciplines of printmaking\, textiles\, and poetry\, and asserts the critical interconnectedness of human and ecological wellbeing. Thanks to a special grant from First Tuesday: The Laureate Writer’s Series and from the Maria W. Faust Sonnet Contest\, admission to this noon event is free. \nLearn more.
URL:https://riverartsalliance.org/event/poet-athena-kildegaard-to-speak-at-the-minnesota-marine-art-museum/
LOCATION:Minnesota Marine Art Museum\, 800 Riverview Dr.\, Winona\, MN\, 55987\, United States
END:VEVENT
BEGIN:VEVENT
DTSTART;TZID=America/Chicago:20230414T160000
DTEND;TZID=America/Chicago:20230414T180000
DTSTAMP:20260422T211709
CREATED:20230406T182107Z
LAST-MODIFIED:20230406T182107Z
UID:10000281-1681488000-1681495200@riverartsalliance.org
SUMMARY:Opening Reception - Donna Miliotis Exhibit at WCHS
DESCRIPTION:Winona County History Center | 160 Johnson St.\nwinonahistory.org \n“Putting Play Clothes On” is an exhibition of paintings by Donna Miliotis running from April 14th through May 28th at the Winona County Historical Society. This exhibit celebrates the thrill of having more time for making art and gratitude for being able to create in a setting as beautiful as Winona. The colorful oil paintings in this show were inspired by plants\, people and bluffs before taking on a life of their own. The opening reception is Friday\, April 14th\, from 4 to 6 pm. Learn more.
URL:https://riverartsalliance.org/event/opening-reception-donna-miliotis-exhibit-at-wchs/
LOCATION:Winona County History Center\, 160 Johnson St\, Winona\, MN\, 55987\, United States
END:VEVENT
BEGIN:VEVENT
DTSTART;TZID=America/Chicago:20230414T190000
DTEND;TZID=America/Chicago:20230414T190000
DTSTAMP:20260422T211709
CREATED:20230406T193329Z
LAST-MODIFIED:20230406T193329Z
UID:10000284-1681498800-1681498800@riverartsalliance.org
SUMMARY:Silent Movie The Gold Rush at Old Main
DESCRIPTION:Old Main Cultural Center | 20869 College Ave. | Galesville\, WI\noldmain.org \nOn Friday\, April 14th\, Old Main Cultural Center presents the silent movie The Gold Rush starring Charlie Chaplin. Music will be performed by Eddie Kim\, pianist. Admission is free and refreshments will be for sale. Learn more about Old Main’s Gale Star event series here.
URL:https://riverartsalliance.org/event/silent-movie-the-gold-rush-at-old-main/
LOCATION:Old Main Cultural Center\, 20869 S College Ave.\, Galesville\, WI\, 54630\, United States
END:VEVENT
END:VCALENDAR