BEGIN:VCALENDAR
VERSION:2.0
PRODID:-//River Arts Alliance - ECPv6.15.20//NONSGML v1.0//EN
CALSCALE:GREGORIAN
METHOD:PUBLISH
X-WR-CALNAME:River Arts Alliance
X-ORIGINAL-URL:https://riverartsalliance.org
X-WR-CALDESC:Events for River Arts Alliance
REFRESH-INTERVAL;VALUE=DURATION:PT1H
X-Robots-Tag:noindex
X-PUBLISHED-TTL:PT1H
BEGIN:VTIMEZONE
TZID:America/Chicago
BEGIN:DAYLIGHT
TZOFFSETFROM:-0600
TZOFFSETTO:-0500
TZNAME:CDT
DTSTART:20220313T080000
END:DAYLIGHT
BEGIN:STANDARD
TZOFFSETFROM:-0500
TZOFFSETTO:-0600
TZNAME:CST
DTSTART:20221106T070000
END:STANDARD
BEGIN:DAYLIGHT
TZOFFSETFROM:-0600
TZOFFSETTO:-0500
TZNAME:CDT
DTSTART:20230312T080000
END:DAYLIGHT
BEGIN:STANDARD
TZOFFSETFROM:-0500
TZOFFSETTO:-0600
TZNAME:CST
DTSTART:20231105T070000
END:STANDARD
BEGIN:DAYLIGHT
TZOFFSETFROM:-0600
TZOFFSETTO:-0500
TZNAME:CDT
DTSTART:20240310T080000
END:DAYLIGHT
BEGIN:STANDARD
TZOFFSETFROM:-0500
TZOFFSETTO:-0600
TZNAME:CST
DTSTART:20241103T070000
END:STANDARD
END:VTIMEZONE
BEGIN:VEVENT
DTSTART;TZID=America/Chicago:20230415T130000
DTEND;TZID=America/Chicago:20230415T150000
DTSTAMP:20260422T211558
CREATED:20230331T160520Z
LAST-MODIFIED:20230331T160520Z
UID:10000276-1681563600-1681570800@riverartsalliance.org
SUMMARY:Nine-Tile Pottery Class with Richard Spiller at WAC
DESCRIPTION:Winona Arts Center | 228 E 5th St.\nwinonaarts.org \nThe Winona Arts Center is pleased to offer a 9-tile pottery class with Richard Spiller\, local potter\, on Saturday\, April 15. Students will be given nine 4-inch earthenware clay tiles on a board. They will draw on each tile and then apply colored slips and clear glaze. Students can bring their own design or trace designs that are provided. Tiles will be fired at Spiller’s studio and returned at a later date. Cost is $30 for WAC members and $35 for non-members. Learn more.
URL:https://riverartsalliance.org/event/nine-tile-pottery-class-with-richard-spiller-at-wac/
LOCATION:Winona Arts Center\, 228 E 5th St.\, Winona\, MN\, 55987\, United States
END:VEVENT
BEGIN:VEVENT
DTSTART;TZID=America/Chicago:20230415T193000
DTEND;TZID=America/Chicago:20230415T193000
DTSTAMP:20260422T211558
CREATED:20230328T164821Z
LAST-MODIFIED:20230328T164821Z
UID:10000273-1681587000-1681587000@riverartsalliance.org
SUMMARY:“Wild Irish Tales” with Clare Murphy
DESCRIPTION:Page Theatre | Saint Mary’s University | 700 Terrace Heights \nsandbarstorytellingfestival.org \nRenowned storyteller\, performer\, teacher\, and artist Clare Murphy will kick off the Sandbar Storytelling Festival’s second season at 7:30 p.m. Saturday\, April 15\, with “Wild Irish Tales.” Celebrated for her physical dynamism\, wit\, and warmth\, Murphy brings the ancient art of story firmly into the contemporary world. Tickets to Murphy’s performance\, to be held at Saint Mary’s University’s Page Theatre\, are $25 for the public and $20 for students. Enjoy Irish music by local band Patina in the lobby before the show. \nAdditionally\, Murphy will lead a storytelling workshop at Winona Arts Center\, 5th and Franklin streets\, from 1 to 3 p.m. Sunday\, April 16. Participation is $15 and limited space is available. Tickets and workshop registration are available online at sandbarstorytellingfestival.org. Learn more.
URL:https://riverartsalliance.org/event/wild-irish-tales-with-clare-murphy/
LOCATION:Page Theatre\, 700 Terrace Heights\, Winona\, MN\, 55987\, United States
END:VEVENT
BEGIN:VEVENT
DTSTART;TZID=America/Chicago:20230415T193000
DTEND;TZID=America/Chicago:20230415T210000
DTSTAMP:20260422T211558
CREATED:20230331T165740Z
LAST-MODIFIED:20230331T165740Z
UID:10000277-1681587000-1681592400@riverartsalliance.org
SUMMARY:Saint Mary’s Spring Choral Concert
DESCRIPTION:Chapel of Saint Mary of the Angels | 1160 W Wabasha St. \nThe Saint Mary’s University Concert Choir\, Madrigal Singers\, men’s and women’s ensembles and alumni singers will combine to present their spring concert at the beautiful Mary of the Angels Chapel in Winona. Led by Dr. Janet Heukeshoven\, this concert will feature guest conductor Patrick O’Shea (former director of choirs at Saint Mary’s) as well as student conductor Gianna Henningsen and accompanist A. Eric Heukeshoven. This performance is free and open to the public; arrive early for best seating. A cookie reception will take place directly after the performance in Alverna Hall. Learn more.
URL:https://riverartsalliance.org/event/saint-marys-spring-choral-concert/
LOCATION:Chapel of Saint Mary of the Angels\, 1160 W Wabasha St.\, Winona\, MN\, 55987\, United States
END:VEVENT
END:VCALENDAR