BEGIN:VCALENDAR
VERSION:2.0
PRODID:-//River Arts Alliance - ECPv6.15.20//NONSGML v1.0//EN
CALSCALE:GREGORIAN
METHOD:PUBLISH
X-WR-CALNAME:River Arts Alliance
X-ORIGINAL-URL:https://riverartsalliance.org
X-WR-CALDESC:Events for River Arts Alliance
REFRESH-INTERVAL;VALUE=DURATION:PT1H
X-Robots-Tag:noindex
X-PUBLISHED-TTL:PT1H
BEGIN:VTIMEZONE
TZID:America/Chicago
BEGIN:DAYLIGHT
TZOFFSETFROM:-0600
TZOFFSETTO:-0500
TZNAME:CDT
DTSTART:20220313T080000
END:DAYLIGHT
BEGIN:STANDARD
TZOFFSETFROM:-0500
TZOFFSETTO:-0600
TZNAME:CST
DTSTART:20221106T070000
END:STANDARD
BEGIN:DAYLIGHT
TZOFFSETFROM:-0600
TZOFFSETTO:-0500
TZNAME:CDT
DTSTART:20230312T080000
END:DAYLIGHT
BEGIN:STANDARD
TZOFFSETFROM:-0500
TZOFFSETTO:-0600
TZNAME:CST
DTSTART:20231105T070000
END:STANDARD
BEGIN:DAYLIGHT
TZOFFSETFROM:-0600
TZOFFSETTO:-0500
TZNAME:CDT
DTSTART:20240310T080000
END:DAYLIGHT
BEGIN:STANDARD
TZOFFSETFROM:-0500
TZOFFSETTO:-0600
TZNAME:CST
DTSTART:20241103T070000
END:STANDARD
END:VTIMEZONE
BEGIN:VEVENT
DTSTART;TZID=America/Chicago:20230416T130000
DTEND;TZID=America/Chicago:20230416T150000
DTSTAMP:20260422T211559
CREATED:20230328T165206Z
LAST-MODIFIED:20230328T165206Z
UID:10000275-1681650000-1681657200@riverartsalliance.org
SUMMARY:Storytelling Workshop with Clare Murphy
DESCRIPTION:Winona Arts Center | 228 E 5th St. \nsandbarstorytellingfestival.org \nRenowned storyteller\, performer\, teacher\, and artist Clare Murphy will kick off the Sandbar Storytelling Festival’s second season at 7:30 p.m. Saturday\, April 15\, with “Wild Irish Tales.” Celebrated for her physical dynamism\, wit\, and warmth\, Murphy brings the ancient art of story firmly into the contemporary world. Tickets to Murphy’s performance\, to be held at Saint Mary’s University’s Page Theatre\, are $25 for the public and $20 for students. Enjoy Irish music by local band Patina in the lobby before the show. \nAdditionally\, Murphy will lead a storytelling workshop at Winona Arts Center\, 5th and Franklin streets\, from 1 to 3 p.m. Sunday\, April 16. Participation is $15 and limited space is available. Tickets and workshop registration are available online at sandbarstorytellingfestival.org. Learn more.
URL:https://riverartsalliance.org/event/storytelling-workshop-with-clare-murphy/
LOCATION:Winona Arts Center\, 228 E 5th St.\, Winona\, MN\, 55987\, United States
END:VEVENT
BEGIN:VEVENT
DTSTART;TZID=America/Chicago:20230416T150000
DTEND;TZID=America/Chicago:20230416T163000
DTSTAMP:20260422T211559
CREATED:20230331T174228Z
LAST-MODIFIED:20230331T174228Z
UID:10000278-1681657200-1681662600@riverartsalliance.org
SUMMARY:Saint Mary’s Music Alumni Reunite for Heukeshoven Farewell Concert
DESCRIPTION:Page Theatre | Saint Mary’s University | 700 Terrace Heights \nOn April 16th\, the Jazz Ensemble and Concert Band combine in one concert to celebrate the Heukeshovens’ years of teaching at Saint Mary’s University. The Jazz Ensemble\, led by A. Eric Heukeshoven\, will take the stage first\, featuring many returning alumni on this “players’ favorites” concert. Then the Concert Band will take the stage with a concert fanfare\, then presenting a new composition by Benjamin D. Taylor through the Kaplan Foundation Commissioning program which started in 2000. Alumni musicians will join in for Holst’s Suite #1. The concert is free; arrive early for best seats. Learn more.
URL:https://riverartsalliance.org/event/saint-marys-music-alumni-reunite-for-heukeshoven-farewell-concert/
LOCATION:Page Theatre\, 700 Terrace Heights\, Winona\, MN\, 55987\, United States
END:VEVENT
END:VCALENDAR