BEGIN:VCALENDAR
VERSION:2.0
PRODID:-//River Arts Alliance - ECPv6.15.20//NONSGML v1.0//EN
CALSCALE:GREGORIAN
METHOD:PUBLISH
X-ORIGINAL-URL:https://riverartsalliance.org
X-WR-CALDESC:Events for River Arts Alliance
REFRESH-INTERVAL;VALUE=DURATION:PT1H
X-Robots-Tag:noindex
X-PUBLISHED-TTL:PT1H
BEGIN:VTIMEZONE
TZID:America/Chicago
BEGIN:DAYLIGHT
TZOFFSETFROM:-0600
TZOFFSETTO:-0500
TZNAME:CDT
DTSTART:20220313T080000
END:DAYLIGHT
BEGIN:STANDARD
TZOFFSETFROM:-0500
TZOFFSETTO:-0600
TZNAME:CST
DTSTART:20221106T070000
END:STANDARD
BEGIN:DAYLIGHT
TZOFFSETFROM:-0600
TZOFFSETTO:-0500
TZNAME:CDT
DTSTART:20230312T080000
END:DAYLIGHT
BEGIN:STANDARD
TZOFFSETFROM:-0500
TZOFFSETTO:-0600
TZNAME:CST
DTSTART:20231105T070000
END:STANDARD
BEGIN:DAYLIGHT
TZOFFSETFROM:-0600
TZOFFSETTO:-0500
TZNAME:CDT
DTSTART:20240310T080000
END:DAYLIGHT
BEGIN:STANDARD
TZOFFSETFROM:-0500
TZOFFSETTO:-0600
TZNAME:CST
DTSTART:20241103T070000
END:STANDARD
END:VTIMEZONE
BEGIN:VEVENT
DTSTART;TZID=America/Chicago:20230421T170000
DTEND;TZID=America/Chicago:20230421T190000
DTSTAMP:20260422T211708
CREATED:20230417T191703Z
LAST-MODIFIED:20230417T191703Z
UID:10000119-1682096400-1682103600@riverartsalliance.org
SUMMARY:Opening Reception - Art Kenyon Exhibit at the Blue Heron Coffeehouse
DESCRIPTION:Blue Heron Coffeehouse | 162 W 2nd St.\nblueheroncoffeehouse.com \nAn exhibit of works by artist Art Kenyon of Red Wing\, Minnesota\, will run from April 19 through June 4 at the Blue Heron Coffeehouse in downtown Winona. An opening reception will be held on Friday\, April 21 from 5-7 pm. The reception is free and open to the public.
URL:https://riverartsalliance.org/event/opening-reception-art-kenyon-exhibit-at-the-blue-heron-coffeehouse/
LOCATION:Blue Heron Coffeehouse\, 162 W 2nd St\, Winona\, MN\, 55987\, United States
END:VEVENT
BEGIN:VEVENT
DTSTART;TZID=America/Chicago:20230421T180000
DTEND;TZID=America/Chicago:20230421T190000
DTSTAMP:20260422T211708
CREATED:20230406T204511Z
LAST-MODIFIED:20230406T204511Z
UID:10000288-1682100000-1682103600@riverartsalliance.org
SUMMARY:MCA Music Division Spring Recital
DESCRIPTION:Valéncia Arts Center | 1164 W Howard St.\nmca.smumn.edu \nThe Minnesota Conservatory for the Arts (MCA) music division invites the community to our Spring Recital held inside MCA’s home\, the Valéncia Arts Center\, on Friday\, April 21st\, 2023 at 6:00 pm. This recital will feature music students of all ages and experience levels playing a variety of music and instruments. We hope you’ll join us for an enjoyable evening of music. Admission is free-will donation. Learn more.
URL:https://riverartsalliance.org/event/mca-music-division-spring-recital/
LOCATION:Minnesota Conservatory for the Arts\, 1164 W 10th St.\, Winona\, MN\, United States
END:VEVENT
BEGIN:VEVENT
DTSTART;TZID=America/Chicago:20230421T190000
DTEND;TZID=America/Chicago:20230421T190000
DTSTAMP:20260422T211708
CREATED:20230414T205642Z
LAST-MODIFIED:20230414T205642Z
UID:10000115-1682103600-1682103600@riverartsalliance.org
SUMMARY:Healthy Lake Winona Film by Mary Farrell
DESCRIPTION:Winona Arts Center | 228 E 5th St.\nfrff.org \nFrozen River Film Festival will be screening the new local film Healthy Lake Winona on April 21 at the Winona Arts Center. Directed by local filmmaker Mary Farrell\, Healthy Lake Winona follows the efforts of local organizers dedicated to cleaning up Lake Winona. Tickets for the screening are available at frff.eventive.org or at the door. Tickets are $10 for adults and free for students and children. Learn more.
URL:https://riverartsalliance.org/event/healthy-lake-winona-film-by-mary-farrell/
LOCATION:Winona Arts Center\, 228 E 5th St.\, Winona\, MN\, 55987\, United States
END:VEVENT
BEGIN:VEVENT
DTSTART;TZID=America/Chicago:20230421T190000
DTEND;TZID=America/Chicago:20230421T190000
DTSTAMP:20260422T211708
CREATED:20230417T193751Z
LAST-MODIFIED:20230421T222433Z
UID:10000121-1682103600-1682103600@riverartsalliance.org
SUMMARY:CANCELED - Book Launch – “REAP\, a flora” by Mara Adamitz Scrupe
DESCRIPTION:UPDATE 4/21/23: Due to tornadoes across the southern midsection of the prairie\, and canceled flights\, this program has unfortunately been canceled. \nMinnesota Marine Art Museum | 800 Riverview Dr. \nA special partnership between the Minnesota Marine Art Museum (MMAM) and Shipwreckt Books of Winona presents a Book Launch – “REAP\, a flora” by Mara Adamitz Scrupe\, a collection of poems and drawings. Mara will launch “REAP\, a flora” at MMAM on April 21\, 2023\, at 7 p.m. Learn more.
URL:https://riverartsalliance.org/event/book-launch-reap-a-flora-by-mara-adamitz-scrupe/
LOCATION:Minnesota Marine Art Museum\, 800 Riverview Dr.\, Winona\, MN\, 55987\, United States
END:VEVENT
END:VCALENDAR