BEGIN:VCALENDAR
VERSION:2.0
PRODID:-//River Arts Alliance - ECPv6.15.20//NONSGML v1.0//EN
CALSCALE:GREGORIAN
METHOD:PUBLISH
X-ORIGINAL-URL:https://riverartsalliance.org
X-WR-CALDESC:Events for River Arts Alliance
REFRESH-INTERVAL;VALUE=DURATION:PT1H
X-Robots-Tag:noindex
X-PUBLISHED-TTL:PT1H
BEGIN:VTIMEZONE
TZID:America/Chicago
BEGIN:DAYLIGHT
TZOFFSETFROM:-0600
TZOFFSETTO:-0500
TZNAME:CDT
DTSTART:20220313T080000
END:DAYLIGHT
BEGIN:STANDARD
TZOFFSETFROM:-0500
TZOFFSETTO:-0600
TZNAME:CST
DTSTART:20221106T070000
END:STANDARD
BEGIN:DAYLIGHT
TZOFFSETFROM:-0600
TZOFFSETTO:-0500
TZNAME:CDT
DTSTART:20230312T080000
END:DAYLIGHT
BEGIN:STANDARD
TZOFFSETFROM:-0500
TZOFFSETTO:-0600
TZNAME:CST
DTSTART:20231105T070000
END:STANDARD
BEGIN:DAYLIGHT
TZOFFSETFROM:-0600
TZOFFSETTO:-0500
TZNAME:CDT
DTSTART:20240310T080000
END:DAYLIGHT
BEGIN:STANDARD
TZOFFSETFROM:-0500
TZOFFSETTO:-0600
TZNAME:CST
DTSTART:20241103T070000
END:STANDARD
END:VTIMEZONE
BEGIN:VEVENT
DTSTART;TZID=America/Chicago:20230428T080000
DTEND;TZID=America/Chicago:20230428T160000
DTSTAMP:20260422T211550
CREATED:20230421T184646Z
LAST-MODIFIED:20230421T184646Z
UID:10000304-1682668800-1682697600@riverartsalliance.org
SUMMARY:Artists' Garage Sale at Mississippi Mornings
DESCRIPTION:RAA member Mississippi Mornings Art Studio is hosting an Artists’ Garage Sale this spring\, over the weekends of April 28-30 and May 5-7. Along with several area artists who will be selling their own items\, this is also a fundraiser opportunity for River Arts Alliance. Proceeds from all donated items sold will go directly to RAA to support our operations and programming. \nShop at the Sale \nThe sale hours will be 8:00 am to 4:00 pm\, Friday\, April 28\, through Sunday\, April 30\, and again the following weekend\, Friday\, May 5\, through Sunday\, May 7\, at Mississippi Mornings (40341 Lamoille Dr.\, Winona). \nIf you have any questions or if you are interested in volunteering to help at the sale\, please contact Linda Klabo at Mississippi Mornings for more information. Email her at linda@mississippimornings.com or call 507-459-8021. \nLearn more.
URL:https://riverartsalliance.org/event/artists-garage-sale-at-mississippi-mornings/2023-04-28/
LOCATION:Mississippi Mornings Art Studio\, 40341 Lamoille Dr.\, Winona\, MN\, 55987\, United States
END:VEVENT
BEGIN:VEVENT
DTSTART;TZID=America/Chicago:20230428T100000
DTEND;TZID=America/Chicago:20230428T170000
DTSTAMP:20260422T211550
CREATED:20230426T191328Z
LAST-MODIFIED:20230426T191328Z
UID:10000313-1682676000-1682701200@riverartsalliance.org
SUMMARY:Bluff Country Studio Art Tour
DESCRIPTION:Various Locations in Southeastern MN\nbluffcountrystudioarttour.org \nThe 2023 Bluff Country Studio Art Tour will take place Friday\, April 28\, through Sunday\, April 30. River Arts Alliance serves as fiscal sponsor of this event\, and several RAA member artists are participating in the tour. Learn more at bluffcountrystudioarttour.org.
URL:https://riverartsalliance.org/event/bluff-country-studio-art-tour/2023-04-28/
LOCATION:MN
END:VEVENT
BEGIN:VEVENT
DTSTART;TZID=America/Chicago:20230428T180000
DTEND;TZID=America/Chicago:20230428T200000
DTSTAMP:20260422T211550
CREATED:20230420T202900Z
LAST-MODIFIED:20230420T202900Z
UID:10000296-1682704800-1682712000@riverartsalliance.org
SUMMARY:Unwind Friday with H3O Jazz Trio at Blooming Grounds
DESCRIPTION:Blooming Grounds Coffee House | 50 E 3rd St.\nH3OJazz.com \nNow in its fourth month\, Unwind Friday with H3O Jazz Trio has become a favorite way for folks to end their busy week with some laid back jazz. This month’s Unwind Friday happens on Friday\, April 28\, 2023\, from 6 – 8 p.m. at Blooming Grounds main location\, 50 E 3rd Street\, Winona\, MN. Come and enjoy a full menu of delicious offerings\, beer and wine\, coffee drinks\, and amazing desserts … with no cover charge! Learn more.
URL:https://riverartsalliance.org/event/unwind-friday-with-h3o-jazz-trio-at-blooming-grounds-2/
LOCATION:Blooming Grounds Coffee House\, 50 E 3rd St.\, Winona\, MN\, 55987\, United States
END:VEVENT
END:VCALENDAR