BEGIN:VCALENDAR
VERSION:2.0
PRODID:-//River Arts Alliance - ECPv6.15.20//NONSGML v1.0//EN
CALSCALE:GREGORIAN
METHOD:PUBLISH
X-ORIGINAL-URL:https://riverartsalliance.org
X-WR-CALDESC:Events for River Arts Alliance
REFRESH-INTERVAL;VALUE=DURATION:PT1H
X-Robots-Tag:noindex
X-PUBLISHED-TTL:PT1H
BEGIN:VTIMEZONE
TZID:America/Chicago
BEGIN:DAYLIGHT
TZOFFSETFROM:-0600
TZOFFSETTO:-0500
TZNAME:CDT
DTSTART:20220313T080000
END:DAYLIGHT
BEGIN:STANDARD
TZOFFSETFROM:-0500
TZOFFSETTO:-0600
TZNAME:CST
DTSTART:20221106T070000
END:STANDARD
BEGIN:DAYLIGHT
TZOFFSETFROM:-0600
TZOFFSETTO:-0500
TZNAME:CDT
DTSTART:20230312T080000
END:DAYLIGHT
BEGIN:STANDARD
TZOFFSETFROM:-0500
TZOFFSETTO:-0600
TZNAME:CST
DTSTART:20231105T070000
END:STANDARD
BEGIN:DAYLIGHT
TZOFFSETFROM:-0600
TZOFFSETTO:-0500
TZNAME:CDT
DTSTART:20240310T080000
END:DAYLIGHT
BEGIN:STANDARD
TZOFFSETFROM:-0500
TZOFFSETTO:-0600
TZNAME:CST
DTSTART:20241103T070000
END:STANDARD
END:VTIMEZONE
BEGIN:VEVENT
DTSTART;TZID=America/Chicago:20230429T080000
DTEND;TZID=America/Chicago:20230429T160000
DTSTAMP:20260422T211550
CREATED:20230421T184646Z
LAST-MODIFIED:20230421T184646Z
UID:10000305-1682755200-1682784000@riverartsalliance.org
SUMMARY:Artists' Garage Sale at Mississippi Mornings
DESCRIPTION:RAA member Mississippi Mornings Art Studio is hosting an Artists’ Garage Sale this spring\, over the weekends of April 28-30 and May 5-7. Along with several area artists who will be selling their own items\, this is also a fundraiser opportunity for River Arts Alliance. Proceeds from all donated items sold will go directly to RAA to support our operations and programming. \nShop at the Sale \nThe sale hours will be 8:00 am to 4:00 pm\, Friday\, April 28\, through Sunday\, April 30\, and again the following weekend\, Friday\, May 5\, through Sunday\, May 7\, at Mississippi Mornings (40341 Lamoille Dr.\, Winona). \nIf you have any questions or if you are interested in volunteering to help at the sale\, please contact Linda Klabo at Mississippi Mornings for more information. Email her at linda@mississippimornings.com or call 507-459-8021. \nLearn more.
URL:https://riverartsalliance.org/event/artists-garage-sale-at-mississippi-mornings/2023-04-29/
LOCATION:Mississippi Mornings Art Studio\, 40341 Lamoille Dr.\, Winona\, MN\, 55987\, United States
END:VEVENT
BEGIN:VEVENT
DTSTART;TZID=America/Chicago:20230429T100000
DTEND;TZID=America/Chicago:20230429T170000
DTSTAMP:20260422T211550
CREATED:20230426T191328Z
LAST-MODIFIED:20230426T191328Z
UID:10000314-1682762400-1682787600@riverartsalliance.org
SUMMARY:Bluff Country Studio Art Tour
DESCRIPTION:Various Locations in Southeastern MN\nbluffcountrystudioarttour.org \nThe 2023 Bluff Country Studio Art Tour will take place Friday\, April 28\, through Sunday\, April 30. River Arts Alliance serves as fiscal sponsor of this event\, and several RAA member artists are participating in the tour. Learn more at bluffcountrystudioarttour.org.
URL:https://riverartsalliance.org/event/bluff-country-studio-art-tour/2023-04-29/
LOCATION:MN
END:VEVENT
BEGIN:VEVENT
DTSTART;TZID=America/Chicago:20230429T190000
DTEND;TZID=America/Chicago:20230429T190000
DTSTAMP:20260422T211550
CREATED:20230418T142808Z
LAST-MODIFIED:20230418T142808Z
UID:10000294-1682794800-1682794800@riverartsalliance.org
SUMMARY:Patchouli & Terra Guitarra Concert at WAC
DESCRIPTION:Winona Arts Center | 228 E 5th St.\nwinonaarts.org \nThe Winona Arts Center is pleased to present Patchouli and Terra Guitarra in concert on April 29\, 2023 at 7 pm. The event\, The Landscape of Guitar: Animated Painting Concert Experience\, is a groundbreaking art and music production. Experience the Spirit of the ’60s & ’70s\, the romance of the Spanish guitar\, and the colors of Van Gogh. Tickets are $20 in advance or $25 at the door. Coffeehouse and gallery open at 6 pm. Learn more.
URL:https://riverartsalliance.org/event/patchouli-terra-guitarra-concert-at-wac/
LOCATION:Winona Arts Center\, 228 E 5th St.\, Winona\, MN\, 55987\, United States
END:VEVENT
BEGIN:VEVENT
DTSTART;TZID=America/Chicago:20230429T190000
DTEND;TZID=America/Chicago:20230429T210000
DTSTAMP:20260422T211550
CREATED:20230426T202809Z
LAST-MODIFIED:20230426T202809Z
UID:10000316-1682794800-1682802000@riverartsalliance.org
SUMMARY:Piano and Accordion Concert
DESCRIPTION:Zion Lutheran Church | 20335 W Gale Ave. | Galesville\, WI\noldmain.org \nRon Reimer and Barb Du Fresne will present a piano and accordion concert at the Zion Lutheran Church at 20335 W Gale Ave. in Galesville\, Saturday\, April 29 at 7:00 p.m. The concert will include a number of guests who will add variety to the program. The concert has been moved from Old Main while Old Main addresses a structural question that could be resolved soon. Admission is $10.00 for adults and $5.00 for people in high school and younger.
URL:https://riverartsalliance.org/event/piano-and-accordion-concert/
LOCATION:Zion Lutheran Church\, 20335 W Gale Ave.\, Galesville\, WI\, 54630\, United States
END:VEVENT
END:VCALENDAR