BEGIN:VCALENDAR
VERSION:2.0
PRODID:-//River Arts Alliance - ECPv6.15.20//NONSGML v1.0//EN
CALSCALE:GREGORIAN
METHOD:PUBLISH
X-WR-CALNAME:River Arts Alliance
X-ORIGINAL-URL:https://riverartsalliance.org
X-WR-CALDESC:Events for River Arts Alliance
REFRESH-INTERVAL;VALUE=DURATION:PT1H
X-Robots-Tag:noindex
X-PUBLISHED-TTL:PT1H
BEGIN:VTIMEZONE
TZID:America/Chicago
BEGIN:DAYLIGHT
TZOFFSETFROM:-0600
TZOFFSETTO:-0500
TZNAME:CDT
DTSTART:20220313T080000
END:DAYLIGHT
BEGIN:STANDARD
TZOFFSETFROM:-0500
TZOFFSETTO:-0600
TZNAME:CST
DTSTART:20221106T070000
END:STANDARD
BEGIN:DAYLIGHT
TZOFFSETFROM:-0600
TZOFFSETTO:-0500
TZNAME:CDT
DTSTART:20230312T080000
END:DAYLIGHT
BEGIN:STANDARD
TZOFFSETFROM:-0500
TZOFFSETTO:-0600
TZNAME:CST
DTSTART:20231105T070000
END:STANDARD
BEGIN:DAYLIGHT
TZOFFSETFROM:-0600
TZOFFSETTO:-0500
TZNAME:CDT
DTSTART:20240310T080000
END:DAYLIGHT
BEGIN:STANDARD
TZOFFSETFROM:-0500
TZOFFSETTO:-0600
TZNAME:CST
DTSTART:20241103T070000
END:STANDARD
END:VTIMEZONE
BEGIN:VEVENT
DTSTART;TZID=America/Chicago:20230502T190000
DTEND;TZID=America/Chicago:20230502T190000
DTSTAMP:20260422T192309
CREATED:20230426T220306Z
LAST-MODIFIED:20230426T220306Z
UID:10000317-1683054000-1683054000@riverartsalliance.org
SUMMARY:Laureate Writers Series Presents Jean Prokott
DESCRIPTION:Blue Heron Coffeehouse | 162 W 2nd St. \nJean Prokott\, recently named Poet Laureate for the city of Rochester\, will be the featured guest writer for this month’s First Tuesday Laureate Writers Series on May 2nd. The presentation will be followed by a book signing and an open mic. This event is sponsored by the Maria W. Faust Sonnet Contest in partnership with the Blue Heron Coffeehouse and is free and open to the public. Learn more.
URL:https://riverartsalliance.org/event/laureate-writers-series-presents-jean-prokott/
LOCATION:Blue Heron Coffeehouse\, 162 W 2nd St\, Winona\, MN\, 55987\, United States
END:VEVENT
END:VCALENDAR