BEGIN:VCALENDAR
VERSION:2.0
PRODID:-//River Arts Alliance - ECPv6.15.20//NONSGML v1.0//EN
CALSCALE:GREGORIAN
METHOD:PUBLISH
X-ORIGINAL-URL:https://riverartsalliance.org
X-WR-CALDESC:Events for River Arts Alliance
REFRESH-INTERVAL;VALUE=DURATION:PT1H
X-Robots-Tag:noindex
X-PUBLISHED-TTL:PT1H
BEGIN:VTIMEZONE
TZID:America/Chicago
BEGIN:DAYLIGHT
TZOFFSETFROM:-0600
TZOFFSETTO:-0500
TZNAME:CDT
DTSTART:20220313T080000
END:DAYLIGHT
BEGIN:STANDARD
TZOFFSETFROM:-0500
TZOFFSETTO:-0600
TZNAME:CST
DTSTART:20221106T070000
END:STANDARD
BEGIN:DAYLIGHT
TZOFFSETFROM:-0600
TZOFFSETTO:-0500
TZNAME:CDT
DTSTART:20230312T080000
END:DAYLIGHT
BEGIN:STANDARD
TZOFFSETFROM:-0500
TZOFFSETTO:-0600
TZNAME:CST
DTSTART:20231105T070000
END:STANDARD
BEGIN:DAYLIGHT
TZOFFSETFROM:-0600
TZOFFSETTO:-0500
TZNAME:CDT
DTSTART:20240310T080000
END:DAYLIGHT
BEGIN:STANDARD
TZOFFSETFROM:-0500
TZOFFSETTO:-0600
TZNAME:CST
DTSTART:20241103T070000
END:STANDARD
END:VTIMEZONE
BEGIN:VEVENT
DTSTART;TZID=America/Chicago:20230505T080000
DTEND;TZID=America/Chicago:20230505T160000
DTSTAMP:20260422T192343
CREATED:20230421T184646Z
LAST-MODIFIED:20230421T184646Z
UID:10000307-1683273600-1683302400@riverartsalliance.org
SUMMARY:Artists' Garage Sale at Mississippi Mornings
DESCRIPTION:RAA member Mississippi Mornings Art Studio is hosting an Artists’ Garage Sale this spring\, over the weekends of April 28-30 and May 5-7. Along with several area artists who will be selling their own items\, this is also a fundraiser opportunity for River Arts Alliance. Proceeds from all donated items sold will go directly to RAA to support our operations and programming. \nShop at the Sale \nThe sale hours will be 8:00 am to 4:00 pm\, Friday\, April 28\, through Sunday\, April 30\, and again the following weekend\, Friday\, May 5\, through Sunday\, May 7\, at Mississippi Mornings (40341 Lamoille Dr.\, Winona). \nIf you have any questions or if you are interested in volunteering to help at the sale\, please contact Linda Klabo at Mississippi Mornings for more information. Email her at linda@mississippimornings.com or call 507-459-8021. \nLearn more.
URL:https://riverartsalliance.org/event/artists-garage-sale-at-mississippi-mornings/2023-05-05/
LOCATION:Mississippi Mornings Art Studio\, 40341 Lamoille Dr.\, Winona\, MN\, 55987\, United States
END:VEVENT
BEGIN:VEVENT
DTSTART;TZID=America/Chicago:20230505T190000
DTEND;TZID=America/Chicago:20230505T190000
DTSTAMP:20260422T192343
CREATED:20230427T022424Z
LAST-MODIFIED:20230427T022424Z
UID:10000318-1683313200-1683313200@riverartsalliance.org
SUMMARY:Cinco de Mayo Celebration & Salt of the Earth Film at WAC
DESCRIPTION:Winona Arts Center | 228 E 5th St.\nwinonaarts.org \nPlease join us for a Cinco de Mayo celebration on May 5\, 2023 at 7 pm at the Winona Arts Center. The evening will feature the classic 1954 film\, Salt of the Earth. Its plot centers on a long and difficult strike based on the 1951 strike against the Empire Zinc Company in Grant County\, New Mexico. \nTreats for the evening will include salsa and chips\, non-alcoholic sangria and more. Tickets are $5 per person and available at the door. Learn more.
URL:https://riverartsalliance.org/event/cinco-de-mayo-celebration-salt-of-the-earth-film-at-wac/
LOCATION:Winona Arts Center\, 228 E 5th St.\, Winona\, MN\, 55987\, United States
END:VEVENT
END:VCALENDAR