BEGIN:VCALENDAR
VERSION:2.0
PRODID:-//River Arts Alliance - ECPv6.15.20//NONSGML v1.0//EN
CALSCALE:GREGORIAN
METHOD:PUBLISH
X-ORIGINAL-URL:https://riverartsalliance.org
X-WR-CALDESC:Events for River Arts Alliance
REFRESH-INTERVAL;VALUE=DURATION:PT1H
X-Robots-Tag:noindex
X-PUBLISHED-TTL:PT1H
BEGIN:VTIMEZONE
TZID:America/Chicago
BEGIN:DAYLIGHT
TZOFFSETFROM:-0600
TZOFFSETTO:-0500
TZNAME:CDT
DTSTART:20220313T080000
END:DAYLIGHT
BEGIN:STANDARD
TZOFFSETFROM:-0500
TZOFFSETTO:-0600
TZNAME:CST
DTSTART:20221106T070000
END:STANDARD
BEGIN:DAYLIGHT
TZOFFSETFROM:-0600
TZOFFSETTO:-0500
TZNAME:CDT
DTSTART:20230312T080000
END:DAYLIGHT
BEGIN:STANDARD
TZOFFSETFROM:-0500
TZOFFSETTO:-0600
TZNAME:CST
DTSTART:20231105T070000
END:STANDARD
BEGIN:DAYLIGHT
TZOFFSETFROM:-0600
TZOFFSETTO:-0500
TZNAME:CDT
DTSTART:20240310T080000
END:DAYLIGHT
BEGIN:STANDARD
TZOFFSETFROM:-0500
TZOFFSETTO:-0600
TZNAME:CST
DTSTART:20241103T070000
END:STANDARD
END:VTIMEZONE
BEGIN:VEVENT
DTSTART;TZID=America/Chicago:20230507T080000
DTEND;TZID=America/Chicago:20230507T160000
DTSTAMP:20260422T192302
CREATED:20230421T184646Z
LAST-MODIFIED:20230421T184646Z
UID:10000309-1683446400-1683475200@riverartsalliance.org
SUMMARY:Artists' Garage Sale at Mississippi Mornings
DESCRIPTION:RAA member Mississippi Mornings Art Studio is hosting an Artists’ Garage Sale this spring\, over the weekends of April 28-30 and May 5-7. Along with several area artists who will be selling their own items\, this is also a fundraiser opportunity for River Arts Alliance. Proceeds from all donated items sold will go directly to RAA to support our operations and programming. \nShop at the Sale \nThe sale hours will be 8:00 am to 4:00 pm\, Friday\, April 28\, through Sunday\, April 30\, and again the following weekend\, Friday\, May 5\, through Sunday\, May 7\, at Mississippi Mornings (40341 Lamoille Dr.\, Winona). \nIf you have any questions or if you are interested in volunteering to help at the sale\, please contact Linda Klabo at Mississippi Mornings for more information. Email her at linda@mississippimornings.com or call 507-459-8021. \nLearn more.
URL:https://riverartsalliance.org/event/artists-garage-sale-at-mississippi-mornings/2023-05-07/
LOCATION:Mississippi Mornings Art Studio\, 40341 Lamoille Dr.\, Winona\, MN\, 55987\, United States
END:VEVENT
BEGIN:VEVENT
DTSTART;TZID=America/Chicago:20230507T120000
DTEND;TZID=America/Chicago:20230507T150000
DTSTAMP:20260422T192302
CREATED:20230502T202516Z
LAST-MODIFIED:20230502T202516Z
UID:10000322-1683460800-1683471600@riverartsalliance.org
SUMMARY:Patina the Band at Kinstone
DESCRIPTION:Kinstone | S3439 Cole Bluff Lane | Fountain City\, WI\npatinatheband.com \nOn May 7 from noon to three\, Patina will be performing its mix of Celtic and original tunes and songs at the opening weekend at Kinstone.
URL:https://riverartsalliance.org/event/patina-the-band-at-kinstone/
LOCATION:Kinstone\, S3439 Cole Bluff Lane\, Fountain City\, WI\, 54629\, United States
END:VEVENT
BEGIN:VEVENT
DTSTART;TZID=America/Chicago:20230507T140000
DTEND;TZID=America/Chicago:20230507T140000
DTSTAMP:20260422T192302
CREATED:20230426T185821Z
LAST-MODIFIED:20230426T185821Z
UID:10000312-1683468000-1683468000@riverartsalliance.org
SUMMARY:Poetry Reading Featuring Lorraine Kilmartin
DESCRIPTION:Exhibit | April 24 through June 18\nReading | Sunday | May 7 | 2 pm\nRed Wing Arts Depot Gallery | 418 Levee St. | Red Wing\, MN \nredwingarts.org \nThe 2023 Poet Artist Collaboration\, an exhibit of artworks and the poems that inspired them\, can be viewed at the Red Wing Arts Depot Gallery through June 18. River Arts Alliance member Lorraine Kilmartin’s poem\, “Her Confession\,” is among those included in this juried exhibit. Poets whose work is featured in the exhibit will read selections of their work at the Depot Gallery at 2 pm on Sundays in May. Lorraine will be among those reading selections from their work on May 7. Learn more.
URL:https://riverartsalliance.org/event/poetry-reading-featuring-lorraine-kilmartin/
LOCATION:Red Wing Arts Depot Gallery\, 418 Levee St.\, Red Wing\, MN\, 55066\, United States
END:VEVENT
END:VCALENDAR