BEGIN:VCALENDAR
VERSION:2.0
PRODID:-//River Arts Alliance - ECPv6.15.20//NONSGML v1.0//EN
CALSCALE:GREGORIAN
METHOD:PUBLISH
X-ORIGINAL-URL:https://riverartsalliance.org
X-WR-CALDESC:Events for River Arts Alliance
REFRESH-INTERVAL;VALUE=DURATION:PT1H
X-Robots-Tag:noindex
X-PUBLISHED-TTL:PT1H
BEGIN:VTIMEZONE
TZID:America/Chicago
BEGIN:DAYLIGHT
TZOFFSETFROM:-0600
TZOFFSETTO:-0500
TZNAME:CDT
DTSTART:20220313T080000
END:DAYLIGHT
BEGIN:STANDARD
TZOFFSETFROM:-0500
TZOFFSETTO:-0600
TZNAME:CST
DTSTART:20221106T070000
END:STANDARD
BEGIN:DAYLIGHT
TZOFFSETFROM:-0600
TZOFFSETTO:-0500
TZNAME:CDT
DTSTART:20230312T080000
END:DAYLIGHT
BEGIN:STANDARD
TZOFFSETFROM:-0500
TZOFFSETTO:-0600
TZNAME:CST
DTSTART:20231105T070000
END:STANDARD
BEGIN:DAYLIGHT
TZOFFSETFROM:-0600
TZOFFSETTO:-0500
TZNAME:CDT
DTSTART:20240310T080000
END:DAYLIGHT
BEGIN:STANDARD
TZOFFSETFROM:-0500
TZOFFSETTO:-0600
TZNAME:CST
DTSTART:20241103T070000
END:STANDARD
END:VTIMEZONE
BEGIN:VEVENT
DTSTART;TZID=America/Chicago:20230521T140000
DTEND;TZID=America/Chicago:20230521T170000
DTSTAMP:20260422T192341
CREATED:20230511T164622Z
LAST-MODIFIED:20230511T164622Z
UID:10000326-1684677600-1684688400@riverartsalliance.org
SUMMARY:Opening Reception - Celebrating the Life and Art of Jean Billman Exhibit at WAC
DESCRIPTION:May 14 – June 24\, 2023\nOpening Reception | Sunday | May 21 | 2-5 pm\nWinona Arts Center | 228 E 5th St.\nwinonaarts.org \nThe Winona Arts Center is pleased to host an exhibit of the works of artist Jean Billman from May 14 through June 24\, 2023. An opening reception will be held on May 21. The reception will offer shared stories of Jean and her creativity with a potluck celebration to follow. \nJean Billman loved color. It permeated her life. She spent years playing with clay both on the wheel and by hand\, developing quite a colorful\, unique style in majolica. Her favorite medium became watercolor. It challenged her and provided lots of satisfaction. Jean’s family will be donating proceeds from the sale of Jean’s works to the Winona Arts Center in her memory. Learn more.
URL:https://riverartsalliance.org/event/opening-reception-celebrating-the-life-and-art-of-jean-billman-exhibit-at-wac/
LOCATION:Winona Arts Center\, 228 E 5th St.\, Winona\, MN\, 55987\, United States
END:VEVENT
BEGIN:VEVENT
DTSTART;TZID=America/Chicago:20230521T140000
DTEND;TZID=America/Chicago:20230521T170000
DTSTAMP:20260422T192341
CREATED:20230515T145029Z
LAST-MODIFIED:20230515T145114Z
UID:10000343-1684677600-1684688400@riverartsalliance.org
SUMMARY:May Jazz Jam Supporting Winona County Historical Society
DESCRIPTION:Island City Brewing Company | 65 E Front St.\nH3OJazz.com \nH3O Jazz Trio and Island City Brewing Company dedicate this month’s Jazz Jam to the Winona County Historical Society in anticipation of its full schedule of History on the River cruises. Weather permitting\, the monthly Jazz Jam will be outside on Island City’s spacious patio on Sunday\, May 21 from 2:00 – 5:00 p.m. All donations will be matched by the brewery and H3O. To date\, H3O and Island City have helped support local nonprofits with over $32\,000 in total donations through the generosity of Jazz Jam patrons! The April Jam raised over $1\,500 for the Winona Farmers Market. Learn more.
URL:https://riverartsalliance.org/event/may-jazz-jam-supporting-winona-county-historical-society/
LOCATION:Island City Brewing Company\, 65 E Front St\, Winona\, MN\, 55987\, United States
END:VEVENT
END:VCALENDAR