BEGIN:VCALENDAR
VERSION:2.0
PRODID:-//River Arts Alliance - ECPv6.15.20//NONSGML v1.0//EN
CALSCALE:GREGORIAN
METHOD:PUBLISH
X-WR-CALNAME:River Arts Alliance
X-ORIGINAL-URL:https://riverartsalliance.org
X-WR-CALDESC:Events for River Arts Alliance
REFRESH-INTERVAL;VALUE=DURATION:PT1H
X-Robots-Tag:noindex
X-PUBLISHED-TTL:PT1H
BEGIN:VTIMEZONE
TZID:America/Chicago
BEGIN:DAYLIGHT
TZOFFSETFROM:-0600
TZOFFSETTO:-0500
TZNAME:CDT
DTSTART:20220313T080000
END:DAYLIGHT
BEGIN:STANDARD
TZOFFSETFROM:-0500
TZOFFSETTO:-0600
TZNAME:CST
DTSTART:20221106T070000
END:STANDARD
BEGIN:DAYLIGHT
TZOFFSETFROM:-0600
TZOFFSETTO:-0500
TZNAME:CDT
DTSTART:20230312T080000
END:DAYLIGHT
BEGIN:STANDARD
TZOFFSETFROM:-0500
TZOFFSETTO:-0600
TZNAME:CST
DTSTART:20231105T070000
END:STANDARD
BEGIN:DAYLIGHT
TZOFFSETFROM:-0600
TZOFFSETTO:-0500
TZNAME:CDT
DTSTART:20240310T080000
END:DAYLIGHT
BEGIN:STANDARD
TZOFFSETFROM:-0500
TZOFFSETTO:-0600
TZNAME:CST
DTSTART:20241103T070000
END:STANDARD
END:VTIMEZONE
BEGIN:VEVENT
DTSTART;TZID=America/Chicago:20230525T170000
DTEND;TZID=America/Chicago:20230525T200000
DTSTAMP:20260422T192310
CREATED:20230522T174015Z
LAST-MODIFIED:20230522T174015Z
UID:10000345-1685034000-1685044800@riverartsalliance.org
SUMMARY:Bach Society of Minnesota Mobile Mini-Concerts in Winona
DESCRIPTION:Various Locations in Winona\nbachsocietymn.org \nBach Society of Minnesota musicians will perform 93 FREE Mobile Mini-Concerts in seven Minnesota cities between May 24-28 as the finale events of the 2023 Minnesota Bach Festival that began May 13. On Thursday\, May 25th\, the Winona Mobile Mini-Concerts will feature violinist Marco Real-d’Arbelles playing at the following locations: \n\n5:00 pm – Sugar Loaf Senior Living\n5:40 pm – Callista Court\n6:10 pm – Saint Anne Extended Healthcare\n7:00 pm – Central Lutheran Church\n7:40 pm – Faith Lutheran Church\n\nEach concert lasts approximately 20 minutes. Learn more.
URL:https://riverartsalliance.org/event/bach-society-of-minnesota-mobile-mini-concerts-in-winona/
LOCATION:MN
END:VEVENT
END:VCALENDAR