BEGIN:VCALENDAR
VERSION:2.0
PRODID:-//River Arts Alliance - ECPv6.15.20//NONSGML v1.0//EN
CALSCALE:GREGORIAN
METHOD:PUBLISH
X-ORIGINAL-URL:https://riverartsalliance.org
X-WR-CALDESC:Events for River Arts Alliance
REFRESH-INTERVAL;VALUE=DURATION:PT1H
X-Robots-Tag:noindex
X-PUBLISHED-TTL:PT1H
BEGIN:VTIMEZONE
TZID:America/Chicago
BEGIN:DAYLIGHT
TZOFFSETFROM:-0600
TZOFFSETTO:-0500
TZNAME:CDT
DTSTART:20220313T080000
END:DAYLIGHT
BEGIN:STANDARD
TZOFFSETFROM:-0500
TZOFFSETTO:-0600
TZNAME:CST
DTSTART:20221106T070000
END:STANDARD
BEGIN:DAYLIGHT
TZOFFSETFROM:-0600
TZOFFSETTO:-0500
TZNAME:CDT
DTSTART:20230312T080000
END:DAYLIGHT
BEGIN:STANDARD
TZOFFSETFROM:-0500
TZOFFSETTO:-0600
TZNAME:CST
DTSTART:20231105T070000
END:STANDARD
BEGIN:DAYLIGHT
TZOFFSETFROM:-0600
TZOFFSETTO:-0500
TZNAME:CDT
DTSTART:20240310T080000
END:DAYLIGHT
BEGIN:STANDARD
TZOFFSETFROM:-0500
TZOFFSETTO:-0600
TZNAME:CST
DTSTART:20241103T070000
END:STANDARD
END:VTIMEZONE
BEGIN:VEVENT
DTSTART;TZID=America/Chicago:20230604T170000
DTEND;TZID=America/Chicago:20230604T190000
DTSTAMP:20260422T174626
CREATED:20230529T164935Z
LAST-MODIFIED:20230529T164935Z
UID:10000136-1685898000-1685905200@riverartsalliance.org
SUMMARY:Gate City Jazz Band at the Black Horse
DESCRIPTION:Black Horse Bar & Grill | 34648 Old Homer Rd. \nGate City Jazz Band is back at the Black Horse Bar and Grill on June 4\, Sunday\, from 5-7 for some happy and toe-tapping tunes that make you feel good while you dine on the libations and vittles from the restaurant that make you feel even better. Plan to join us.
URL:https://riverartsalliance.org/event/gate-city-jazz-band-at-the-black-horse-4/
LOCATION:Black Horse Bar & Grill\, 34648 Old Homer Rd.\, Winona\, MN\, 55987\, United States
END:VEVENT
BEGIN:VEVENT
DTSTART;TZID=America/Chicago:20230604T180000
DTEND;TZID=America/Chicago:20230604T180000
DTSTAMP:20260422T174626
CREATED:20230529T165814Z
LAST-MODIFIED:20230529T165814Z
UID:10000138-1685901600-1685901600@riverartsalliance.org
SUMMARY:“Artemis – In Celebration of Seasoned Women” Film at WAC
DESCRIPTION:Winona Arts Center | 228 E 5th St.\nwinonaarts.org \nThe Winona Arts Center is pleased to host the screening of the documentary film “Artemis – In Celebration of Seasoned Women”. This documentary film celebrates women who defy the notion that “women of a certain age” become invisible in society. “Artemis” busts that myth by showcasing and showing off Winona’s wealth of seasoned female artists\, activists\, wise owls\, biz wiz’s\, movers and shakers\, makers and bakers. Produced and directed by award-winning filmmaker Kristine Hipps in association with Engage Winona’s Lived Experience Leaders Project. Free admission. Learn more.
URL:https://riverartsalliance.org/event/artemis-in-celebration-of-seasoned-women-film-at-wac/
LOCATION:Winona Arts Center\, 228 E 5th St.\, Winona\, MN\, 55987\, United States
END:VEVENT
END:VCALENDAR