BEGIN:VCALENDAR
VERSION:2.0
PRODID:-//River Arts Alliance - ECPv6.15.20//NONSGML v1.0//EN
CALSCALE:GREGORIAN
METHOD:PUBLISH
X-ORIGINAL-URL:https://riverartsalliance.org
X-WR-CALDESC:Events for River Arts Alliance
REFRESH-INTERVAL;VALUE=DURATION:PT1H
X-Robots-Tag:noindex
X-PUBLISHED-TTL:PT1H
BEGIN:VTIMEZONE
TZID:America/Chicago
BEGIN:DAYLIGHT
TZOFFSETFROM:-0600
TZOFFSETTO:-0500
TZNAME:CDT
DTSTART:20220313T080000
END:DAYLIGHT
BEGIN:STANDARD
TZOFFSETFROM:-0500
TZOFFSETTO:-0600
TZNAME:CST
DTSTART:20221106T070000
END:STANDARD
BEGIN:DAYLIGHT
TZOFFSETFROM:-0600
TZOFFSETTO:-0500
TZNAME:CDT
DTSTART:20230312T080000
END:DAYLIGHT
BEGIN:STANDARD
TZOFFSETFROM:-0500
TZOFFSETTO:-0600
TZNAME:CST
DTSTART:20231105T070000
END:STANDARD
BEGIN:DAYLIGHT
TZOFFSETFROM:-0600
TZOFFSETTO:-0500
TZNAME:CDT
DTSTART:20240310T080000
END:DAYLIGHT
BEGIN:STANDARD
TZOFFSETFROM:-0500
TZOFFSETTO:-0600
TZNAME:CST
DTSTART:20241103T070000
END:STANDARD
END:VTIMEZONE
BEGIN:VEVENT
DTSTART;TZID=America/Chicago:20230610T180000
DTEND;TZID=America/Chicago:20230610T220000
DTSTAMP:20260422T174626
CREATED:20230529T184752Z
LAST-MODIFIED:20230529T184752Z
UID:10000140-1686420000-1686434400@riverartsalliance.org
SUMMARY:Celebrate Pride at ICBC with The Soul Train\, Carnage the Executioner\, and Cass Magpie
DESCRIPTION:Island City Brewing Company | 65 E Front St.\nislandcitybrew.com \nJoin us at your favorite local brewery to celebrate Pride weekend on Saturday\, June 10th from 6-10 pm. Tickets are $10 in advance or $15 at the door\, and include 1 free drink. Buy tickets at this link. Learn more. \nBAND LINE-UP:\nCASS MAGPIE @ 6PM\nCARNAGE @ 7:15PM\nTHE SOUL TRAIN @ 8:30-10PM
URL:https://riverartsalliance.org/event/celebrate-pride-at-icbc-with-the-soul-train-carnage-the-executioner-and-cass-magpie/
LOCATION:Island City Brewing Company\, 65 E Front St\, Winona\, MN\, 55987\, United States
END:VEVENT
END:VCALENDAR