BEGIN:VCALENDAR
VERSION:2.0
PRODID:-//River Arts Alliance - ECPv6.15.20//NONSGML v1.0//EN
CALSCALE:GREGORIAN
METHOD:PUBLISH
X-WR-CALNAME:River Arts Alliance
X-ORIGINAL-URL:https://riverartsalliance.org
X-WR-CALDESC:Events for River Arts Alliance
REFRESH-INTERVAL;VALUE=DURATION:PT1H
X-Robots-Tag:noindex
X-PUBLISHED-TTL:PT1H
BEGIN:VTIMEZONE
TZID:America/Chicago
BEGIN:DAYLIGHT
TZOFFSETFROM:-0600
TZOFFSETTO:-0500
TZNAME:CDT
DTSTART:20220313T080000
END:DAYLIGHT
BEGIN:STANDARD
TZOFFSETFROM:-0500
TZOFFSETTO:-0600
TZNAME:CST
DTSTART:20221106T070000
END:STANDARD
BEGIN:DAYLIGHT
TZOFFSETFROM:-0600
TZOFFSETTO:-0500
TZNAME:CDT
DTSTART:20230312T080000
END:DAYLIGHT
BEGIN:STANDARD
TZOFFSETFROM:-0500
TZOFFSETTO:-0600
TZNAME:CST
DTSTART:20231105T070000
END:STANDARD
BEGIN:DAYLIGHT
TZOFFSETFROM:-0600
TZOFFSETTO:-0500
TZNAME:CDT
DTSTART:20240310T080000
END:DAYLIGHT
BEGIN:STANDARD
TZOFFSETFROM:-0500
TZOFFSETTO:-0600
TZNAME:CST
DTSTART:20241103T070000
END:STANDARD
END:VTIMEZONE
BEGIN:VEVENT
DTSTART;TZID=America/Chicago:20230614T200000
DTEND;TZID=America/Chicago:20230614T210000
DTSTAMP:20260422T174615
CREATED:20230613T004824Z
LAST-MODIFIED:20230613T005007Z
UID:10000145-1686772800-1686776400@riverartsalliance.org
SUMMARY:Winona Municipal Band Concert
DESCRIPTION:Lake Park Bandshell | Lake Park Dr.\nwinonamunicipalband.org \nThe 2023 Winona Municipal Band season runs from June 14th through August 16th. Concerts are held on Wednesdays from 8:00-9:00pm at Winona’s historic Lake Park Bandshell. Each week’s program will be available at winonamunicipalband.org. See you at the bandshell!
URL:https://riverartsalliance.org/event/winona-municipal-band-concert/2023-06-14/
LOCATION:Lake Park Bandshell\, Lake Park Dr.\, Winona\, MN\, 55987\, United States
END:VEVENT
END:VCALENDAR