BEGIN:VCALENDAR
VERSION:2.0
PRODID:-//River Arts Alliance - ECPv6.15.20//NONSGML v1.0//EN
CALSCALE:GREGORIAN
METHOD:PUBLISH
X-WR-CALNAME:River Arts Alliance
X-ORIGINAL-URL:https://riverartsalliance.org
X-WR-CALDESC:Events for River Arts Alliance
REFRESH-INTERVAL;VALUE=DURATION:PT1H
X-Robots-Tag:noindex
X-PUBLISHED-TTL:PT1H
BEGIN:VTIMEZONE
TZID:America/Chicago
BEGIN:DAYLIGHT
TZOFFSETFROM:-0600
TZOFFSETTO:-0500
TZNAME:CDT
DTSTART:20220313T080000
END:DAYLIGHT
BEGIN:STANDARD
TZOFFSETFROM:-0500
TZOFFSETTO:-0600
TZNAME:CST
DTSTART:20221106T070000
END:STANDARD
BEGIN:DAYLIGHT
TZOFFSETFROM:-0600
TZOFFSETTO:-0500
TZNAME:CDT
DTSTART:20230312T080000
END:DAYLIGHT
BEGIN:STANDARD
TZOFFSETFROM:-0500
TZOFFSETTO:-0600
TZNAME:CST
DTSTART:20231105T070000
END:STANDARD
BEGIN:DAYLIGHT
TZOFFSETFROM:-0600
TZOFFSETTO:-0500
TZNAME:CDT
DTSTART:20240310T080000
END:DAYLIGHT
BEGIN:STANDARD
TZOFFSETFROM:-0500
TZOFFSETTO:-0600
TZNAME:CST
DTSTART:20241103T070000
END:STANDARD
END:VTIMEZONE
BEGIN:VEVENT
DTSTART;TZID=America/Chicago:20230616T190000
DTEND;TZID=America/Chicago:20230616T190000
DTSTAMP:20260422T174616
CREATED:20230613T011110Z
LAST-MODIFIED:20230613T011110Z
UID:10000155-1686942000-1686942000@riverartsalliance.org
SUMMARY:FLOTSAM! River Circus Benefit at WAC
DESCRIPTION:Winona Arts Center | 228 E 5th St.\nwinonaarts.org \nFLOTSAM! River Circus Benefit at the Winona Arts Center featuring Jason Webley\, Doctor Bob\, and special guests \nCome spend an evening on June 16 with folk-punk accordion troubadour Jason Webley and local guests in support of “FLOTSAM!” at the Winona Arts Center. FLOTSAM! is a floating river circus that will be traveling down the Mississippi River this summer giving free performances for crowds on the shore. Jason Webley is a multi-instrumentalist artist\, presenting folk\, experimental\, and alternative music\, largely driven by the accordion. Joining the event will be Doctor Bob’s Puppets’ presentation of William Shakespeare’s A Midsummer Night’s Dream puppet show. Doors open at 6 pm and showtime is at 7 pm. Tickets are $10 and are available at Chapter Two Books and No Name Bar. Learn more.
URL:https://riverartsalliance.org/event/flotsam-river-circus-benefit-at-wac/
LOCATION:Winona Arts Center\, 228 E 5th St.\, Winona\, MN\, 55987\, United States
END:VEVENT
END:VCALENDAR