BEGIN:VCALENDAR
VERSION:2.0
PRODID:-//River Arts Alliance - ECPv6.15.20//NONSGML v1.0//EN
CALSCALE:GREGORIAN
METHOD:PUBLISH
X-ORIGINAL-URL:https://riverartsalliance.org
X-WR-CALDESC:Events for River Arts Alliance
REFRESH-INTERVAL;VALUE=DURATION:PT1H
X-Robots-Tag:noindex
X-PUBLISHED-TTL:PT1H
BEGIN:VTIMEZONE
TZID:America/Chicago
BEGIN:DAYLIGHT
TZOFFSETFROM:-0600
TZOFFSETTO:-0500
TZNAME:CDT
DTSTART:20220313T080000
END:DAYLIGHT
BEGIN:STANDARD
TZOFFSETFROM:-0500
TZOFFSETTO:-0600
TZNAME:CST
DTSTART:20221106T070000
END:STANDARD
BEGIN:DAYLIGHT
TZOFFSETFROM:-0600
TZOFFSETTO:-0500
TZNAME:CDT
DTSTART:20230312T080000
END:DAYLIGHT
BEGIN:STANDARD
TZOFFSETFROM:-0500
TZOFFSETTO:-0600
TZNAME:CST
DTSTART:20231105T070000
END:STANDARD
BEGIN:DAYLIGHT
TZOFFSETFROM:-0600
TZOFFSETTO:-0500
TZNAME:CDT
DTSTART:20240310T080000
END:DAYLIGHT
BEGIN:STANDARD
TZOFFSETFROM:-0500
TZOFFSETTO:-0600
TZNAME:CST
DTSTART:20241103T070000
END:STANDARD
END:VTIMEZONE
BEGIN:VEVENT
DTSTART;TZID=America/Chicago:20230622T190000
DTEND;TZID=America/Chicago:20230622T190000
DTSTAMP:20260422T174627
CREATED:20230613T134150Z
LAST-MODIFIED:20230613T134150Z
UID:10000363-1687460400-1687460400@riverartsalliance.org
SUMMARY:Sandbar Storytelling Festival’s ‘Business and Immigrant Stories of Winona’ - CodaBow
DESCRIPTION:Winona County History Center | 160 Johnson St.\nsandbarstorytellingfestival.org \nSharing the stories that have shaped Winona\, the Sandbar Storytelling Festival\, in partnership with the Winona County History Center\, is continuing “Business and Immigrant Stories of Winona.” The June 22 event\, featuring CodaBow\, will be at 7 p.m. at the History Center\, 160 Johnson St. In 1958\, Stan Prosen was inspired to pioneer the original carbon fiber bow\, and since then CodaBow’s master makers and leading scientists have created award-winning bows for players of every style\, station\, and aspiration. As admission is free but limited\, please register online at www.sandbarstorytellingfestival.org. Learn more and see upcoming events here.
URL:https://riverartsalliance.org/event/sandbar-storytelling-festivals-business-and-immigrant-stories-of-winona-codabow/
LOCATION:Winona County History Center\, 160 Johnson St\, Winona\, MN\, 55987\, United States
END:VEVENT
END:VCALENDAR